BEGIN:VCALENDAR
VERSION:2.0
PRODID:-//Serres Circuit Αυτοκινητοδρόμιο - ECPv6.15.18//NONSGML v1.0//EN
CALSCALE:GREGORIAN
METHOD:PUBLISH
X-ORIGINAL-URL:https://serrescircuit.gr
X-WR-CALDESC:Events for Serres Circuit Αυτοκινητοδρόμιο
REFRESH-INTERVAL;VALUE=DURATION:PT1H
X-Robots-Tag:noindex
X-PUBLISHED-TTL:PT1H
BEGIN:VTIMEZONE
TZID:Europe/Athens
BEGIN:DAYLIGHT
TZOFFSETFROM:+0200
TZOFFSETTO:+0300
TZNAME:EEST
DTSTART:20250330T010000
END:DAYLIGHT
BEGIN:STANDARD
TZOFFSETFROM:+0300
TZOFFSETTO:+0200
TZNAME:EET
DTSTART:20251026T010000
END:STANDARD
BEGIN:DAYLIGHT
TZOFFSETFROM:+0200
TZOFFSETTO:+0300
TZNAME:EEST
DTSTART:20260329T010000
END:DAYLIGHT
BEGIN:STANDARD
TZOFFSETFROM:+0300
TZOFFSETTO:+0200
TZNAME:EET
DTSTART:20261025T010000
END:STANDARD
BEGIN:DAYLIGHT
TZOFFSETFROM:+0200
TZOFFSETTO:+0300
TZNAME:EEST
DTSTART:20270328T010000
END:DAYLIGHT
BEGIN:STANDARD
TZOFFSETFROM:+0300
TZOFFSETTO:+0200
TZNAME:EET
DTSTART:20271031T010000
END:STANDARD
END:VTIMEZONE
BEGIN:VEVENT
DTSTART;VALUE=DATE:20260925
DTEND;VALUE=DATE:20260928
DTSTAMP:20260420T155659
CREATED:20260213T083003Z
LAST-MODIFIED:20260213T134139Z
UID:10005005-1790294400-1790553599@serrescircuit.gr
SUMMARY:EXTREME TRACK DAYS BY ZAFEIROPOULOS
DESCRIPTION:This is an event reminder
URL:https://serrescircuit.gr/the-event/extreme-track-days-by-zafeiropoulos/
END:VEVENT
BEGIN:VEVENT
DTSTART;TZID=Europe/Athens:20260928T090000
DTEND;TZID=Europe/Athens:20260928T181000
DTSTAMP:20260420T155659
CREATED:20260213T082949Z
LAST-MODIFIED:20260213T111250Z
UID:10004905-1790586000-1790619000@serrescircuit.gr
SUMMARY:OPEN TRACK DAY/ΕΛΕΥΘΕΡΗ ΠΡΟΠΟΝΗΣΗ
DESCRIPTION:
URL:https://serrescircuit.gr/the-event/open-track-day-eleftheri-proponisi-80/
END:VEVENT
BEGIN:VEVENT
DTSTART;TZID=Europe/Athens:20260929T090000
DTEND;TZID=Europe/Athens:20260929T181000
DTSTAMP:20260420T155659
CREATED:20260213T083008Z
LAST-MODIFIED:20260213T111257Z
UID:10005041-1790672400-1790705400@serrescircuit.gr
SUMMARY:OPEN TRACK DAY/ΕΛΕΥΘΕΡΗ ΠΡΟΠΟΝΗΣΗ
DESCRIPTION:
URL:https://serrescircuit.gr/the-event/open-track-day-eleftheri-proponisi-193/
END:VEVENT
BEGIN:VEVENT
DTSTART;TZID=Europe/Athens:20260930T090000
DTEND;TZID=Europe/Athens:20260930T181000
DTSTAMP:20260420T155659
CREATED:20260213T082941Z
LAST-MODIFIED:20260213T111247Z
UID:10004811-1790758800-1790791800@serrescircuit.gr
SUMMARY:OPEN TRACK DAY/ΕΛΕΥΘΕΡΗ ΠΡΟΠΟΝΗΣΗ
DESCRIPTION:
URL:https://serrescircuit.gr/the-event/open-track-day-eleftheri-proponisi/
END:VEVENT
BEGIN:VEVENT
DTSTART;TZID=Europe/Athens:20261001T090000
DTEND;TZID=Europe/Athens:20261001T180500
DTSTAMP:20260420T155659
CREATED:20260213T083013Z
LAST-MODIFIED:20260213T111258Z
UID:10005078-1790845200-1790877900@serrescircuit.gr
SUMMARY:OPEN TRACK DAY/ΕΛΕΥΘΕΡΗ ΠΡΟΠΟΝΗΣΗ
DESCRIPTION:
URL:https://serrescircuit.gr/the-event/open-track-day-eleftheri-proponisi-218/
END:VEVENT
BEGIN:VEVENT
DTSTART;VALUE=DATE:20261002
DTEND;VALUE=DATE:20261005
DTSTAMP:20260420T155659
CREATED:20260213T082957Z
LAST-MODIFIED:20260213T134151Z
UID:10004972-1790899200-1791158399@serrescircuit.gr
SUMMARY:DRIFT KINGS INTERNATIONAL SERIES BY LAMS
DESCRIPTION:This is an event reminder
URL:https://serrescircuit.gr/the-event/drift-kings-international-series-by-lams/
END:VEVENT
BEGIN:VEVENT
DTSTART;TZID=Europe/Athens:20261005T090000
DTEND;TZID=Europe/Athens:20261005T180000
DTSTAMP:20260420T155659
CREATED:20260213T082943Z
LAST-MODIFIED:20260213T111248Z
UID:10004840-1791190800-1791223200@serrescircuit.gr
SUMMARY:OPEN TRACK DAY/ΕΛΕΥΘΕΡΗ ΠΡΟΠΟΝΗΣΗ
DESCRIPTION:
URL:https://serrescircuit.gr/the-event/open-track-day-eleftheri-proponisi-25/
END:VEVENT
BEGIN:VEVENT
DTSTART;TZID=Europe/Athens:20261006T090000
DTEND;TZID=Europe/Athens:20261006T180000
DTSTAMP:20260420T155659
CREATED:20260213T083006Z
LAST-MODIFIED:20260213T111255Z
UID:10005027-1791277200-1791309600@serrescircuit.gr
SUMMARY:OPEN TRACK DAY/ΕΛΕΥΘΕΡΗ ΠΡΟΠΟΝΗΣΗ
DESCRIPTION:
URL:https://serrescircuit.gr/the-event/open-track-day-eleftheri-proponisi-182/
END:VEVENT
BEGIN:VEVENT
DTSTART;TZID=Europe/Athens:20261007T090000
DTEND;TZID=Europe/Athens:20261007T180000
DTSTAMP:20260420T155659
CREATED:20260213T082957Z
LAST-MODIFIED:20260213T111253Z
UID:10004970-1791363600-1791396000@serrescircuit.gr
SUMMARY:OPEN TRACK DAY/ΕΛΕΥΘΕΡΗ ΠΡΟΠΟΝΗΣΗ
DESCRIPTION:
URL:https://serrescircuit.gr/the-event/open-track-day-eleftheri-proponisi-139/
END:VEVENT
BEGIN:VEVENT
DTSTART;TZID=Europe/Athens:20261008T090000
DTEND;TZID=Europe/Athens:20261008T175500
DTSTAMP:20260420T155659
CREATED:20260213T082946Z
LAST-MODIFIED:20260213T111249Z
UID:10004875-1791450000-1791482100@serrescircuit.gr
SUMMARY:OPEN TRACK DAY/ΕΛΕΥΘΕΡΗ ΠΡΟΠΟΝΗΣΗ
DESCRIPTION:
URL:https://serrescircuit.gr/the-event/open-track-day-eleftheri-proponisi-57/
END:VEVENT
BEGIN:VEVENT
DTSTART;VALUE=DATE:20261009
DTEND;VALUE=DATE:20261013
DTSTAMP:20260420T155659
CREATED:20260213T082956Z
LAST-MODIFIED:20260213T134248Z
UID:10004960-1791504000-1791849599@serrescircuit.gr
SUMMARY:100 YEARS DUCATI EVENT
DESCRIPTION:This is an event reminder
URL:https://serrescircuit.gr/the-event/100-years-ducati-event/
END:VEVENT
BEGIN:VEVENT
DTSTART;TZID=Europe/Athens:20261013T090000
DTEND;TZID=Europe/Athens:20261013T175000
DTSTAMP:20260420T155659
CREATED:20260213T082946Z
LAST-MODIFIED:20260213T111249Z
UID:10004873-1791882000-1791913800@serrescircuit.gr
SUMMARY:OPEN TRACK DAY/ΕΛΕΥΘΕΡΗ ΠΡΟΠΟΝΗΣΗ
DESCRIPTION:
URL:https://serrescircuit.gr/the-event/open-track-day-eleftheri-proponisi-55/
END:VEVENT
BEGIN:VEVENT
DTSTART;TZID=Europe/Athens:20261014T090000
DTEND;TZID=Europe/Athens:20261014T174500
DTSTAMP:20260420T155659
CREATED:20260213T083013Z
LAST-MODIFIED:20260213T111258Z
UID:10005079-1791968400-1791999900@serrescircuit.gr
SUMMARY:OPEN TRACK DAY/ΕΛΕΥΘΕΡΗ ΠΡΟΠΟΝΗΣΗ
DESCRIPTION:
URL:https://serrescircuit.gr/the-event/open-track-day-eleftheri-proponisi-219/
END:VEVENT
BEGIN:VEVENT
DTSTART;TZID=Europe/Athens:20261015T090000
DTEND;TZID=Europe/Athens:20261015T174500
DTSTAMP:20260420T155659
CREATED:20260213T082942Z
LAST-MODIFIED:20260213T111247Z
UID:10004831-1792054800-1792086300@serrescircuit.gr
SUMMARY:OPEN TRACK DAY/ΕΛΕΥΘΕΡΗ ΠΡΟΠΟΝΗΣΗ
DESCRIPTION:
URL:https://serrescircuit.gr/the-event/open-track-day-eleftheri-proponisi-16/
END:VEVENT
BEGIN:VEVENT
DTSTART;VALUE=DATE:20261016
DTEND;VALUE=DATE:20261019
DTSTAMP:20260420T155659
CREATED:20260213T082948Z
LAST-MODIFIED:20260213T134254Z
UID:10004890-1792108800-1792367999@serrescircuit.gr
SUMMARY:AUTO TRACKDAYS BY SPEEDSECTOR
DESCRIPTION:This is an event reminder
URL:https://serrescircuit.gr/the-event/auto-trackdays-by-speedsector/
END:VEVENT
BEGIN:VEVENT
DTSTART;TZID=Europe/Athens:20261019T090000
DTEND;TZID=Europe/Athens:20261019T174000
DTSTAMP:20260420T155659
CREATED:20260213T082959Z
LAST-MODIFIED:20260213T111254Z
UID:10004985-1792400400-1792431600@serrescircuit.gr
SUMMARY:OPEN TRACK DAY/ΕΛΕΥΘΕΡΗ ΠΡΟΠΟΝΗΣΗ
DESCRIPTION:
URL:https://serrescircuit.gr/the-event/open-track-day-eleftheri-proponisi-151/
END:VEVENT
BEGIN:VEVENT
DTSTART;TZID=Europe/Athens:20261020T090000
DTEND;TZID=Europe/Athens:20261020T174000
DTSTAMP:20260420T155659
CREATED:20260213T083011Z
LAST-MODIFIED:20260213T111258Z
UID:10005063-1792486800-1792518000@serrescircuit.gr
SUMMARY:OPEN TRACK DAY/ΕΛΕΥΘΕΡΗ ΠΡΟΠΟΝΗΣΗ
DESCRIPTION:
URL:https://serrescircuit.gr/the-event/open-track-day-eleftheri-proponisi-207/
END:VEVENT
BEGIN:VEVENT
DTSTART;TZID=Europe/Athens:20261021T090000
DTEND;TZID=Europe/Athens:20261021T174000
DTSTAMP:20260420T155659
CREATED:20260213T082955Z
LAST-MODIFIED:20260213T111253Z
UID:10004950-1792573200-1792604400@serrescircuit.gr
SUMMARY:OPEN TRACK DAY/ΕΛΕΥΘΕΡΗ ΠΡΟΠΟΝΗΣΗ
DESCRIPTION:
URL:https://serrescircuit.gr/the-event/open-track-day-eleftheri-proponisi-122/
END:VEVENT
BEGIN:VEVENT
DTSTART;TZID=Europe/Athens:20261022T090000
DTEND;TZID=Europe/Athens:20261022T173500
DTSTAMP:20260420T155659
CREATED:20260213T082947Z
LAST-MODIFIED:20260213T111249Z
UID:10004877-1792659600-1792690500@serrescircuit.gr
SUMMARY:OPEN TRACK DAY/ΕΛΕΥΘΕΡΗ ΠΡΟΠΟΝΗΣΗ
DESCRIPTION:
URL:https://serrescircuit.gr/the-event/open-track-day-eleftheri-proponisi-58/
END:VEVENT
BEGIN:VEVENT
DTSTART;VALUE=DATE:20261023
DTEND;VALUE=DATE:20261026
DTSTAMP:20260420T155659
CREATED:20260213T083000Z
LAST-MODIFIED:20260213T134259Z
UID:10004994-1792713600-1792972799@serrescircuit.gr
SUMMARY:TRACKDAYS BY TRACKSPEED
DESCRIPTION:This is an event reminder
URL:https://serrescircuit.gr/the-event/trackdays-by-trackspeed-2/
END:VEVENT
BEGIN:VEVENT
DTSTART;VALUE=DATE:20261026
DTEND;VALUE=DATE:20261027
DTSTAMP:20260420T155659
CREATED:20260213T082955Z
LAST-MODIFIED:20260319T204235Z
UID:10004953-1792972800-1793059199@serrescircuit.gr
SUMMARY:OPEN CAR TRACK DAY/2nd PETROL IN MY VEINS EVENT
DESCRIPTION:
URL:https://serrescircuit.gr/the-event/open-track-day-eleftheri-proponisi-125/
END:VEVENT
BEGIN:VEVENT
DTSTART;TZID=Europe/Athens:20261027T090000
DTEND;TZID=Europe/Athens:20261027T163000
DTSTAMP:20260420T155659
CREATED:20260213T082950Z
LAST-MODIFIED:20260213T111250Z
UID:10004911-1793091600-1793118600@serrescircuit.gr
SUMMARY:OPEN TRACK DAY/ΕΛΕΥΘΕΡΗ ΠΡΟΠΟΝΗΣΗ
DESCRIPTION:
URL:https://serrescircuit.gr/the-event/open-track-day-eleftheri-proponisi-86/
END:VEVENT
BEGIN:VEVENT
DTSTART;TZID=Europe/Athens:20261028T090000
DTEND;TZID=Europe/Athens:20261028T163000
DTSTAMP:20260420T155659
CREATED:20260213T082954Z
LAST-MODIFIED:20260213T111253Z
UID:10004944-1793178000-1793205000@serrescircuit.gr
SUMMARY:OPEN TRACK DAY/ΕΛΕΥΘΕΡΗ ΠΡΟΠΟΝΗΣΗ
DESCRIPTION:
URL:https://serrescircuit.gr/the-event/open-track-day-eleftheri-proponisi-116/
END:VEVENT
BEGIN:VEVENT
DTSTART;TZID=Europe/Athens:20261029T090000
DTEND;TZID=Europe/Athens:20261029T163000
DTSTAMP:20260420T155659
CREATED:20260213T082953Z
LAST-MODIFIED:20260213T111252Z
UID:10004936-1793264400-1793291400@serrescircuit.gr
SUMMARY:OPEN TRACK DAY/ΕΛΕΥΘΕΡΗ ΠΡΟΠΟΝΗΣΗ
DESCRIPTION:
URL:https://serrescircuit.gr/the-event/open-track-day-eleftheri-proponisi-108/
END:VEVENT
BEGIN:VEVENT
DTSTART;VALUE=DATE:20261030
DTEND;VALUE=DATE:20261102
DTSTAMP:20260420T155659
CREATED:20260213T083011Z
LAST-MODIFIED:20260213T134304Z
UID:10005064-1793318400-1793577599@serrescircuit.gr
SUMMARY:EXTREME TRACK DAYS BY ZAFEIROPOULOS
DESCRIPTION:This is an event reminder
URL:https://serrescircuit.gr/the-event/extreme-track-days-by-zafeiropoulos-2/
END:VEVENT
BEGIN:VEVENT
DTSTART;TZID=Europe/Athens:20261102T090000
DTEND;TZID=Europe/Athens:20261102T162500
DTSTAMP:20260420T155659
CREATED:20260213T082949Z
LAST-MODIFIED:20260213T111250Z
UID:10004902-1793610000-1793636700@serrescircuit.gr
SUMMARY:OPEN TRACK DAY/ΕΛΕΥΘΕΡΗ ΠΡΟΠΟΝΗΣΗ
DESCRIPTION:
URL:https://serrescircuit.gr/the-event/open-track-day-eleftheri-proponisi-78/
END:VEVENT
BEGIN:VEVENT
DTSTART;TZID=Europe/Athens:20261103T090000
DTEND;TZID=Europe/Athens:20261103T162000
DTSTAMP:20260420T155659
CREATED:20260213T083005Z
LAST-MODIFIED:20260213T111255Z
UID:10005020-1793696400-1793722800@serrescircuit.gr
SUMMARY:OPEN TRACK DAY/ΕΛΕΥΘΕΡΗ ΠΡΟΠΟΝΗΣΗ
DESCRIPTION:
URL:https://serrescircuit.gr/the-event/open-track-day-eleftheri-proponisi-178/
END:VEVENT
BEGIN:VEVENT
DTSTART;VALUE=DATE:20261104
DTEND;VALUE=DATE:20261109
DTSTAMP:20260420T155659
CREATED:20260213T083010Z
LAST-MODIFIED:20260213T134423Z
UID:10005054-1793750400-1794182399@serrescircuit.gr
SUMMARY:AUTO TRACK DAYS BY LAP BATTLE NPO
DESCRIPTION:This is an event reminder
URL:https://serrescircuit.gr/the-event/auto-track-days-by-lap-battle-npo/
END:VEVENT
BEGIN:VEVENT
DTSTART;TZID=Europe/Athens:20261109T090000
DTEND;TZID=Europe/Athens:20261109T161500
DTSTAMP:20260420T155659
CREATED:20260213T083013Z
LAST-MODIFIED:20260213T111258Z
UID:10005077-1794214800-1794240900@serrescircuit.gr
SUMMARY:OPEN TRACK DAY/ΕΛΕΥΘΕΡΗ ΠΡΟΠΟΝΗΣΗ
DESCRIPTION:
URL:https://serrescircuit.gr/the-event/open-track-day-eleftheri-proponisi-217/
END:VEVENT
BEGIN:VEVENT
DTSTART;TZID=Europe/Athens:20261110T090000
DTEND;TZID=Europe/Athens:20261110T161500
DTSTAMP:20260420T155700
CREATED:20260213T083004Z
LAST-MODIFIED:20260213T111255Z
UID:10005010-1794301200-1794327300@serrescircuit.gr
SUMMARY:OPEN TRACK DAY/ΕΛΕΥΘΕΡΗ ΠΡΟΠΟΝΗΣΗ
DESCRIPTION:
URL:https://serrescircuit.gr/the-event/open-track-day-eleftheri-proponisi-170/
END:VEVENT
END:VCALENDAR