BEGIN:VCALENDAR
VERSION:2.0
PRODID:-//Serres Circuit Αυτοκινητοδρόμιο - ECPv6.15.18//NONSGML v1.0//EN
CALSCALE:GREGORIAN
METHOD:PUBLISH
X-WR-CALNAME:Serres Circuit Αυτοκινητοδρόμιο
X-ORIGINAL-URL:https://serrescircuit.gr
X-WR-CALDESC:Events for Serres Circuit Αυτοκινητοδρόμιο
REFRESH-INTERVAL;VALUE=DURATION:PT1H
X-Robots-Tag:noindex
X-PUBLISHED-TTL:PT1H
BEGIN:VTIMEZONE
TZID:Europe/Athens
BEGIN:DAYLIGHT
TZOFFSETFROM:+0200
TZOFFSETTO:+0300
TZNAME:EEST
DTSTART:20250330T010000
END:DAYLIGHT
BEGIN:STANDARD
TZOFFSETFROM:+0300
TZOFFSETTO:+0200
TZNAME:EET
DTSTART:20251026T010000
END:STANDARD
BEGIN:DAYLIGHT
TZOFFSETFROM:+0200
TZOFFSETTO:+0300
TZNAME:EEST
DTSTART:20260329T010000
END:DAYLIGHT
BEGIN:STANDARD
TZOFFSETFROM:+0300
TZOFFSETTO:+0200
TZNAME:EET
DTSTART:20261025T010000
END:STANDARD
BEGIN:DAYLIGHT
TZOFFSETFROM:+0200
TZOFFSETTO:+0300
TZNAME:EEST
DTSTART:20270328T010000
END:DAYLIGHT
BEGIN:STANDARD
TZOFFSETFROM:+0300
TZOFFSETTO:+0200
TZNAME:EET
DTSTART:20271031T010000
END:STANDARD
END:VTIMEZONE
BEGIN:VEVENT
DTSTART;TZID=Europe/Athens:20260825T090000
DTEND;TZID=Europe/Athens:20260825T190000
DTSTAMP:20260420T142506
CREATED:20260213T082948Z
LAST-MODIFIED:20260213T111249Z
UID:10004887-1787648400-1787684400@serrescircuit.gr
SUMMARY:OPEN TRACK DAY/ΕΛΕΥΘΕΡΗ ΠΡΟΠΟΝΗΣΗ
DESCRIPTION:
URL:https://serrescircuit.gr/the-event/open-track-day-eleftheri-proponisi-66/
END:VEVENT
BEGIN:VEVENT
DTSTART;TZID=Europe/Athens:20260826T090000
DTEND;TZID=Europe/Athens:20260826T190000
DTSTAMP:20260420T142506
CREATED:20260213T082951Z
LAST-MODIFIED:20260213T111252Z
UID:10004920-1787734800-1787770800@serrescircuit.gr
SUMMARY:OPEN TRACK DAY/ΕΛΕΥΘΕΡΗ ΠΡΟΠΟΝΗΣΗ
DESCRIPTION:
URL:https://serrescircuit.gr/the-event/open-track-day-eleftheri-proponisi-95/
END:VEVENT
BEGIN:VEVENT
DTSTART;TZID=Europe/Athens:20260827T090000
DTEND;TZID=Europe/Athens:20260827T190000
DTSTAMP:20260420T142506
CREATED:20260213T083005Z
LAST-MODIFIED:20260213T111255Z
UID:10005017-1787821200-1787857200@serrescircuit.gr
SUMMARY:OPEN TRACK DAY/ΕΛΕΥΘΕΡΗ ΠΡΟΠΟΝΗΣΗ
DESCRIPTION:
URL:https://serrescircuit.gr/the-event/open-track-day-eleftheri-proponisi-176/
END:VEVENT
BEGIN:VEVENT
DTSTART;TZID=Europe/Athens:20260828T090000
DTEND;TZID=Europe/Athens:20260828T190000
DTSTAMP:20260420T142506
CREATED:20260213T082957Z
LAST-MODIFIED:20260213T111253Z
UID:10004969-1787907600-1787943600@serrescircuit.gr
SUMMARY:OPEN TRACK DAY/ΕΛΕΥΘΕΡΗ ΠΡΟΠΟΝΗΣΗ
DESCRIPTION:
URL:https://serrescircuit.gr/the-event/open-track-day-eleftheri-proponisi-138/
END:VEVENT
BEGIN:VEVENT
DTSTART;TZID=Europe/Athens:20260829T090000
DTEND;TZID=Europe/Athens:20260829T190000
DTSTAMP:20260420T142506
CREATED:20260213T082953Z
LAST-MODIFIED:20260213T111252Z
UID:10004935-1787994000-1788030000@serrescircuit.gr
SUMMARY:OPEN TRACK DAY/ΕΛΕΥΘΕΡΗ ΠΡΟΠΟΝΗΣΗ
DESCRIPTION:
URL:https://serrescircuit.gr/the-event/open-track-day-eleftheri-proponisi-107/
END:VEVENT
BEGIN:VEVENT
DTSTART;TZID=Europe/Athens:20260830T090000
DTEND;TZID=Europe/Athens:20260830T185500
DTSTAMP:20260420T142506
CREATED:20260213T083014Z
LAST-MODIFIED:20260213T111258Z
UID:10005083-1788080400-1788116100@serrescircuit.gr
SUMMARY:OPEN TRACK DAY/ΕΛΕΥΘΕΡΗ ΠΡΟΠΟΝΗΣΗ
DESCRIPTION:
URL:https://serrescircuit.gr/the-event/open-track-day-eleftheri-proponisi-222/
END:VEVENT
BEGIN:VEVENT
DTSTART;TZID=Europe/Athens:20260831T090000
DTEND;TZID=Europe/Athens:20260831T185500
DTSTAMP:20260420T142506
CREATED:20260213T083012Z
LAST-MODIFIED:20260213T111258Z
UID:10005071-1788166800-1788202500@serrescircuit.gr
SUMMARY:OPEN TRACK DAY/ΕΛΕΥΘΕΡΗ ΠΡΟΠΟΝΗΣΗ
DESCRIPTION:
URL:https://serrescircuit.gr/the-event/open-track-day-eleftheri-proponisi-213/
END:VEVENT
BEGIN:VEVENT
DTSTART;TZID=Europe/Athens:20260901T090000
DTEND;TZID=Europe/Athens:20260901T185000
DTSTAMP:20260420T142506
CREATED:20260213T083012Z
LAST-MODIFIED:20260213T111258Z
UID:10005072-1788253200-1788288600@serrescircuit.gr
SUMMARY:OPEN TRACK DAY/ΕΛΕΥΘΕΡΗ ΠΡΟΠΟΝΗΣΗ
DESCRIPTION:
URL:https://serrescircuit.gr/the-event/open-track-day-eleftheri-proponisi-214/
END:VEVENT
BEGIN:VEVENT
DTSTART;TZID=Europe/Athens:20260902T090000
DTEND;TZID=Europe/Athens:20260902T185000
DTSTAMP:20260420T142506
CREATED:20260213T082941Z
LAST-MODIFIED:20260213T111247Z
UID:10004817-1788339600-1788375000@serrescircuit.gr
SUMMARY:OPEN TRACK DAY/ΕΛΕΥΘΕΡΗ ΠΡΟΠΟΝΗΣΗ
DESCRIPTION:
URL:https://serrescircuit.gr/the-event/open-track-day-eleftheri-proponisi-5/
END:VEVENT
BEGIN:VEVENT
DTSTART;TZID=Europe/Athens:20260903T090000
DTEND;TZID=Europe/Athens:20260903T185000
DTSTAMP:20260420T142506
CREATED:20260213T082958Z
LAST-MODIFIED:20260213T111254Z
UID:10004976-1788426000-1788461400@serrescircuit.gr
SUMMARY:OPEN TRACK DAY/ΕΛΕΥΘΕΡΗ ΠΡΟΠΟΝΗΣΗ
DESCRIPTION:
URL:https://serrescircuit.gr/the-event/open-track-day-eleftheri-proponisi-144/
END:VEVENT
BEGIN:VEVENT
DTSTART;TZID=Europe/Athens:20260904T090000
DTEND;TZID=Europe/Athens:20260904T185000
DTSTAMP:20260420T142506
CREATED:20260213T082941Z
LAST-MODIFIED:20260213T111247Z
UID:10004820-1788512400-1788547800@serrescircuit.gr
SUMMARY:OPEN TRACK DAY/ΕΛΕΥΘΕΡΗ ΠΡΟΠΟΝΗΣΗ
DESCRIPTION:
URL:https://serrescircuit.gr/the-event/open-track-day-eleftheri-proponisi-7/
END:VEVENT
BEGIN:VEVENT
DTSTART;VALUE=DATE:20260905
DTEND;VALUE=DATE:20260907
DTSTAMP:20260420T142506
CREATED:20260213T082956Z
LAST-MODIFIED:20260213T134053Z
UID:10004964-1788566400-1788739199@serrescircuit.gr
SUMMARY:GS MOTODAYS
DESCRIPTION:This is an event reminder
URL:https://serrescircuit.gr/the-event/gs-motodays/
END:VEVENT
BEGIN:VEVENT
DTSTART;TZID=Europe/Athens:20260907T090000
DTEND;TZID=Europe/Athens:20260907T184500
DTSTAMP:20260420T142506
CREATED:20260213T082945Z
LAST-MODIFIED:20260213T111248Z
UID:10004866-1788771600-1788806700@serrescircuit.gr
SUMMARY:OPEN TRACK DAY/ΕΛΕΥΘΕΡΗ ΠΡΟΠΟΝΗΣΗ
DESCRIPTION:
URL:https://serrescircuit.gr/the-event/open-track-day-eleftheri-proponisi-49/
END:VEVENT
BEGIN:VEVENT
DTSTART;TZID=Europe/Athens:20260908T090000
DTEND;TZID=Europe/Athens:20260908T184000
DTSTAMP:20260420T142506
CREATED:20260213T082942Z
LAST-MODIFIED:20260213T111247Z
UID:10004823-1788858000-1788892800@serrescircuit.gr
SUMMARY:OPEN TRACK DAY/ΕΛΕΥΘΕΡΗ ΠΡΟΠΟΝΗΣΗ
DESCRIPTION:
URL:https://serrescircuit.gr/the-event/open-track-day-eleftheri-proponisi-9/
END:VEVENT
BEGIN:VEVENT
DTSTART;TZID=Europe/Athens:20260909T090000
DTEND;TZID=Europe/Athens:20260909T184000
DTSTAMP:20260420T142506
CREATED:20260213T082954Z
LAST-MODIFIED:20260213T111253Z
UID:10004948-1788944400-1788979200@serrescircuit.gr
SUMMARY:OPEN TRACK DAY/ΕΛΕΥΘΕΡΗ ΠΡΟΠΟΝΗΣΗ
DESCRIPTION:
URL:https://serrescircuit.gr/the-event/open-track-day-eleftheri-proponisi-120/
END:VEVENT
BEGIN:VEVENT
DTSTART;TZID=Europe/Athens:20260910T090000
DTEND;TZID=Europe/Athens:20260910T184000
DTSTAMP:20260420T142506
CREATED:20260213T082958Z
LAST-MODIFIED:20260213T111254Z
UID:10004973-1789030800-1789065600@serrescircuit.gr
SUMMARY:OPEN TRACK DAY/ΕΛΕΥΘΕΡΗ ΠΡΟΠΟΝΗΣΗ
DESCRIPTION:
URL:https://serrescircuit.gr/the-event/open-track-day-eleftheri-proponisi-141/
END:VEVENT
BEGIN:VEVENT
DTSTART;TZID=Europe/Athens:20260911T090000
DTEND;TZID=Europe/Athens:20260911T184000
DTSTAMP:20260420T142506
CREATED:20260213T083004Z
LAST-MODIFIED:20260213T111255Z
UID:10005015-1789117200-1789152000@serrescircuit.gr
SUMMARY:OPEN TRACK DAY/ΕΛΕΥΘΕΡΗ ΠΡΟΠΟΝΗΣΗ
DESCRIPTION:
URL:https://serrescircuit.gr/the-event/open-track-day-eleftheri-proponisi-174/
END:VEVENT
BEGIN:VEVENT
DTSTART;TZID=Europe/Athens:20260912T090000
DTEND;TZID=Europe/Athens:20260912T183500
DTSTAMP:20260420T142506
CREATED:20260213T083010Z
LAST-MODIFIED:20260213T111258Z
UID:10005055-1789203600-1789238100@serrescircuit.gr
SUMMARY:OPEN TRACK DAY/ΕΛΕΥΘΕΡΗ ΠΡΟΠΟΝΗΣΗ
DESCRIPTION:
URL:https://serrescircuit.gr/the-event/open-track-day-eleftheri-proponisi-200/
END:VEVENT
BEGIN:VEVENT
DTSTART;TZID=Europe/Athens:20260913T090000
DTEND;TZID=Europe/Athens:20260913T183500
DTSTAMP:20260420T142506
CREATED:20260213T082941Z
LAST-MODIFIED:20260213T111247Z
UID:10004819-1789290000-1789324500@serrescircuit.gr
SUMMARY:OPEN TRACK DAY/ΕΛΕΥΘΕΡΗ ΠΡΟΠΟΝΗΣΗ
DESCRIPTION:
URL:https://serrescircuit.gr/the-event/open-track-day-eleftheri-proponisi-6/
END:VEVENT
BEGIN:VEVENT
DTSTART;TZID=Europe/Athens:20260914T090000
DTEND;TZID=Europe/Athens:20260914T183000
DTSTAMP:20260420T142506
CREATED:20260213T082945Z
LAST-MODIFIED:20260213T111248Z
UID:10004864-1789376400-1789410600@serrescircuit.gr
SUMMARY:OPEN TRACK DAY/ΕΛΕΥΘΕΡΗ ΠΡΟΠΟΝΗΣΗ
DESCRIPTION:
URL:https://serrescircuit.gr/the-event/open-track-day-eleftheri-proponisi-47/
END:VEVENT
BEGIN:VEVENT
DTSTART;TZID=Europe/Athens:20260915T090000
DTEND;TZID=Europe/Athens:20260915T183000
DTSTAMP:20260420T142506
CREATED:20260213T082941Z
LAST-MODIFIED:20260213T111247Z
UID:10004813-1789462800-1789497000@serrescircuit.gr
SUMMARY:OPEN TRACK DAY/ΕΛΕΥΘΕΡΗ ΠΡΟΠΟΝΗΣΗ
DESCRIPTION:
URL:https://serrescircuit.gr/the-event/open-track-day-eleftheri-proponisi-3/
END:VEVENT
BEGIN:VEVENT
DTSTART;TZID=Europe/Athens:20260916T090000
DTEND;TZID=Europe/Athens:20260916T183000
DTSTAMP:20260420T142506
CREATED:20260213T083004Z
LAST-MODIFIED:20260213T111255Z
UID:10005011-1789549200-1789583400@serrescircuit.gr
SUMMARY:OPEN TRACK DAY/ΕΛΕΥΘΕΡΗ ΠΡΟΠΟΝΗΣΗ
DESCRIPTION:
URL:https://serrescircuit.gr/the-event/open-track-day-eleftheri-proponisi-171/
END:VEVENT
BEGIN:VEVENT
DTSTART;TZID=Europe/Athens:20260917T090000
DTEND;TZID=Europe/Athens:20260917T183000
DTSTAMP:20260420T142506
CREATED:20260213T082958Z
LAST-MODIFIED:20260213T111254Z
UID:10004975-1789635600-1789669800@serrescircuit.gr
SUMMARY:OPEN TRACK DAY/ΕΛΕΥΘΕΡΗ ΠΡΟΠΟΝΗΣΗ
DESCRIPTION:
URL:https://serrescircuit.gr/the-event/open-track-day-eleftheri-proponisi-143/
END:VEVENT
BEGIN:VEVENT
DTSTART;VALUE=DATE:20260918
DTEND;VALUE=DATE:20260921
DTSTAMP:20260420T142506
CREATED:20260213T082944Z
LAST-MODIFIED:20260213T134133Z
UID:10004851-1789689600-1789948799@serrescircuit.gr
SUMMARY:GREEK DRAGSTER CHAMPIONSHIP BY LENOE
DESCRIPTION:This is an event reminder
URL:https://serrescircuit.gr/the-event/greek-dragster-championship-by-lenoe/
END:VEVENT
BEGIN:VEVENT
DTSTART;TZID=Europe/Athens:20260921T090000
DTEND;TZID=Europe/Athens:20260921T182000
DTSTAMP:20260420T142506
CREATED:20260213T083009Z
LAST-MODIFIED:20260213T111257Z
UID:10005045-1789981200-1790014800@serrescircuit.gr
SUMMARY:OPEN TRACK DAY/ΕΛΕΥΘΕΡΗ ΠΡΟΠΟΝΗΣΗ
DESCRIPTION:
URL:https://serrescircuit.gr/the-event/open-track-day-eleftheri-proponisi-197/
END:VEVENT
BEGIN:VEVENT
DTSTART;TZID=Europe/Athens:20260922T090000
DTEND;TZID=Europe/Athens:20260922T182000
DTSTAMP:20260420T142506
CREATED:20260213T082949Z
LAST-MODIFIED:20260213T111249Z
UID:10004901-1790067600-1790101200@serrescircuit.gr
SUMMARY:OPEN TRACK DAY/ΕΛΕΥΘΕΡΗ ΠΡΟΠΟΝΗΣΗ
DESCRIPTION:
URL:https://serrescircuit.gr/the-event/open-track-day-eleftheri-proponisi-77/
END:VEVENT
BEGIN:VEVENT
DTSTART;TZID=Europe/Athens:20260923T090000
DTEND;TZID=Europe/Athens:20260923T182000
DTSTAMP:20260420T142506
CREATED:20260213T082948Z
LAST-MODIFIED:20260213T111249Z
UID:10004893-1790154000-1790187600@serrescircuit.gr
SUMMARY:OPEN TRACK DAY/ΕΛΕΥΘΕΡΗ ΠΡΟΠΟΝΗΣΗ
DESCRIPTION:
URL:https://serrescircuit.gr/the-event/open-track-day-eleftheri-proponisi-70/
END:VEVENT
BEGIN:VEVENT
DTSTART;TZID=Europe/Athens:20260924T090000
DTEND;TZID=Europe/Athens:20260924T182000
DTSTAMP:20260420T142506
CREATED:20260213T082951Z
LAST-MODIFIED:20260213T111252Z
UID:10004919-1790240400-1790274000@serrescircuit.gr
SUMMARY:OPEN TRACK DAY/ΕΛΕΥΘΕΡΗ ΠΡΟΠΟΝΗΣΗ
DESCRIPTION:
URL:https://serrescircuit.gr/the-event/open-track-day-eleftheri-proponisi-94/
END:VEVENT
BEGIN:VEVENT
DTSTART;VALUE=DATE:20260925
DTEND;VALUE=DATE:20260928
DTSTAMP:20260420T142506
CREATED:20260213T083003Z
LAST-MODIFIED:20260213T134139Z
UID:10005005-1790294400-1790553599@serrescircuit.gr
SUMMARY:EXTREME TRACK DAYS BY ZAFEIROPOULOS
DESCRIPTION:This is an event reminder
URL:https://serrescircuit.gr/the-event/extreme-track-days-by-zafeiropoulos/
END:VEVENT
BEGIN:VEVENT
DTSTART;TZID=Europe/Athens:20260928T090000
DTEND;TZID=Europe/Athens:20260928T181000
DTSTAMP:20260420T142506
CREATED:20260213T082949Z
LAST-MODIFIED:20260213T111250Z
UID:10004905-1790586000-1790619000@serrescircuit.gr
SUMMARY:OPEN TRACK DAY/ΕΛΕΥΘΕΡΗ ΠΡΟΠΟΝΗΣΗ
DESCRIPTION:
URL:https://serrescircuit.gr/the-event/open-track-day-eleftheri-proponisi-80/
END:VEVENT
END:VCALENDAR