BEGIN:VCALENDAR
VERSION:2.0
PRODID:-//Serres Circuit Αυτοκινητοδρόμιο - ECPv6.15.18//NONSGML v1.0//EN
CALSCALE:GREGORIAN
METHOD:PUBLISH
X-ORIGINAL-URL:https://serrescircuit.gr
X-WR-CALDESC:Events for Serres Circuit Αυτοκινητοδρόμιο
REFRESH-INTERVAL;VALUE=DURATION:PT1H
X-Robots-Tag:noindex
X-PUBLISHED-TTL:PT1H
BEGIN:VTIMEZONE
TZID:Europe/Athens
BEGIN:DAYLIGHT
TZOFFSETFROM:+0200
TZOFFSETTO:+0300
TZNAME:EEST
DTSTART:20250330T010000
END:DAYLIGHT
BEGIN:STANDARD
TZOFFSETFROM:+0300
TZOFFSETTO:+0200
TZNAME:EET
DTSTART:20251026T010000
END:STANDARD
BEGIN:DAYLIGHT
TZOFFSETFROM:+0200
TZOFFSETTO:+0300
TZNAME:EEST
DTSTART:20260329T010000
END:DAYLIGHT
BEGIN:STANDARD
TZOFFSETFROM:+0300
TZOFFSETTO:+0200
TZNAME:EET
DTSTART:20261025T010000
END:STANDARD
BEGIN:DAYLIGHT
TZOFFSETFROM:+0200
TZOFFSETTO:+0300
TZNAME:EEST
DTSTART:20270328T010000
END:DAYLIGHT
BEGIN:STANDARD
TZOFFSETFROM:+0300
TZOFFSETTO:+0200
TZNAME:EET
DTSTART:20271031T010000
END:STANDARD
END:VTIMEZONE
BEGIN:VEVENT
DTSTART;TZID=Europe/Athens:20260703T090000
DTEND;TZID=Europe/Athens:20260703T194500
DTSTAMP:20260420T082703
CREATED:20260213T082955Z
LAST-MODIFIED:20260213T111253Z
UID:10004955-1783069200-1783107900@serrescircuit.gr
SUMMARY:OPEN TRACK DAY/ΕΛΕΥΘΕΡΗ ΠΡΟΠΟΝΗΣΗ
DESCRIPTION:
URL:https://serrescircuit.gr/the-event/open-track-day-eleftheri-proponisi-126/
END:VEVENT
BEGIN:VEVENT
DTSTART;TZID=Europe/Athens:20260704T090000
DTEND;TZID=Europe/Athens:20260704T194500
DTSTAMP:20260420T082703
CREATED:20260213T082958Z
LAST-MODIFIED:20260213T111254Z
UID:10004974-1783155600-1783194300@serrescircuit.gr
SUMMARY:OPEN TRACK DAY/ΕΛΕΥΘΕΡΗ ΠΡΟΠΟΝΗΣΗ
DESCRIPTION:
URL:https://serrescircuit.gr/the-event/open-track-day-eleftheri-proponisi-142/
END:VEVENT
BEGIN:VEVENT
DTSTART;TZID=Europe/Athens:20260705T090000
DTEND;TZID=Europe/Athens:20260705T194500
DTSTAMP:20260420T082703
CREATED:20260213T083014Z
LAST-MODIFIED:20260213T111258Z
UID:10005082-1783242000-1783280700@serrescircuit.gr
SUMMARY:OPEN TRACK DAY/ΕΛΕΥΘΕΡΗ ΠΡΟΠΟΝΗΣΗ
DESCRIPTION:
URL:https://serrescircuit.gr/the-event/open-track-day-eleftheri-proponisi-221/
END:VEVENT
BEGIN:VEVENT
DTSTART;TZID=Europe/Athens:20260706T090000
DTEND;TZID=Europe/Athens:20260706T194500
DTSTAMP:20260420T082703
CREATED:20260213T082943Z
LAST-MODIFIED:20260213T111248Z
UID:10004844-1783328400-1783367100@serrescircuit.gr
SUMMARY:OPEN TRACK DAY/ΕΛΕΥΘΕΡΗ ΠΡΟΠΟΝΗΣΗ
DESCRIPTION:
URL:https://serrescircuit.gr/the-event/open-track-day-eleftheri-proponisi-29/
END:VEVENT
BEGIN:VEVENT
DTSTART;TZID=Europe/Athens:20260707T090000
DTEND;TZID=Europe/Athens:20260707T194500
DTSTAMP:20260420T082703
CREATED:20260213T082952Z
LAST-MODIFIED:20260213T111252Z
UID:10004932-1783414800-1783453500@serrescircuit.gr
SUMMARY:OPEN TRACK DAY/ΕΛΕΥΘΕΡΗ ΠΡΟΠΟΝΗΣΗ
DESCRIPTION:
URL:https://serrescircuit.gr/the-event/open-track-day-eleftheri-proponisi-104/
END:VEVENT
BEGIN:VEVENT
DTSTART;TZID=Europe/Athens:20260708T090000
DTEND;TZID=Europe/Athens:20260708T194500
DTSTAMP:20260420T082703
CREATED:20260213T082944Z
LAST-MODIFIED:20260213T111248Z
UID:10004854-1783501200-1783539900@serrescircuit.gr
SUMMARY:OPEN TRACK DAY/ΕΛΕΥΘΕΡΗ ΠΡΟΠΟΝΗΣΗ
DESCRIPTION:
URL:https://serrescircuit.gr/the-event/open-track-day-eleftheri-proponisi-38/
END:VEVENT
BEGIN:VEVENT
DTSTART;TZID=Europe/Athens:20260709T090000
DTEND;TZID=Europe/Athens:20260709T194500
DTSTAMP:20260420T082703
CREATED:20260213T083004Z
LAST-MODIFIED:20260213T111255Z
UID:10005016-1783587600-1783626300@serrescircuit.gr
SUMMARY:OPEN TRACK DAY/ΕΛΕΥΘΕΡΗ ΠΡΟΠΟΝΗΣΗ
DESCRIPTION:
URL:https://serrescircuit.gr/the-event/open-track-day-eleftheri-proponisi-175/
END:VEVENT
BEGIN:VEVENT
DTSTART;TZID=Europe/Athens:20260710T090000
DTEND;TZID=Europe/Athens:20260710T194500
DTSTAMP:20260420T082703
CREATED:20260213T083002Z
LAST-MODIFIED:20260213T111254Z
UID:10005000-1783674000-1783712700@serrescircuit.gr
SUMMARY:OPEN TRACK DAY/ΕΛΕΥΘΕΡΗ ΠΡΟΠΟΝΗΣΗ
DESCRIPTION:
URL:https://serrescircuit.gr/the-event/open-track-day-eleftheri-proponisi-162/
END:VEVENT
BEGIN:VEVENT
DTSTART;TZID=Europe/Athens:20260711T090000
DTEND;TZID=Europe/Athens:20260711T194500
DTSTAMP:20260420T082703
CREATED:20260213T082943Z
LAST-MODIFIED:20260213T111248Z
UID:10004835-1783760400-1783799100@serrescircuit.gr
SUMMARY:OPEN TRACK DAY/ΕΛΕΥΘΕΡΗ ΠΡΟΠΟΝΗΣΗ
DESCRIPTION:
URL:https://serrescircuit.gr/the-event/open-track-day-eleftheri-proponisi-20/
END:VEVENT
BEGIN:VEVENT
DTSTART;TZID=Europe/Athens:20260712T090000
DTEND;TZID=Europe/Athens:20260712T194500
DTSTAMP:20260420T082703
CREATED:20260213T082956Z
LAST-MODIFIED:20260213T111253Z
UID:10004958-1783846800-1783885500@serrescircuit.gr
SUMMARY:OPEN TRACK DAY/ΕΛΕΥΘΕΡΗ ΠΡΟΠΟΝΗΣΗ
DESCRIPTION:
URL:https://serrescircuit.gr/the-event/open-track-day-eleftheri-proponisi-129/
END:VEVENT
BEGIN:VEVENT
DTSTART;TZID=Europe/Athens:20260713T090000
DTEND;TZID=Europe/Athens:20260713T194500
DTSTAMP:20260420T082703
CREATED:20260213T082959Z
LAST-MODIFIED:20260213T111254Z
UID:10004983-1783933200-1783971900@serrescircuit.gr
SUMMARY:OPEN TRACK DAY/ΕΛΕΥΘΕΡΗ ΠΡΟΠΟΝΗΣΗ
DESCRIPTION:
URL:https://serrescircuit.gr/the-event/open-track-day-eleftheri-proponisi-150/
END:VEVENT
BEGIN:VEVENT
DTSTART;TZID=Europe/Athens:20260714T090000
DTEND;TZID=Europe/Athens:20260714T194500
DTSTAMP:20260420T082703
CREATED:20260213T082949Z
LAST-MODIFIED:20260213T111249Z
UID:10004900-1784019600-1784058300@serrescircuit.gr
SUMMARY:OPEN TRACK DAY/ΕΛΕΥΘΕΡΗ ΠΡΟΠΟΝΗΣΗ
DESCRIPTION:
URL:https://serrescircuit.gr/the-event/open-track-day-eleftheri-proponisi-76/
END:VEVENT
BEGIN:VEVENT
DTSTART;TZID=Europe/Athens:20260715T090000
DTEND;TZID=Europe/Athens:20260715T194500
DTSTAMP:20260420T082703
CREATED:20260213T082947Z
LAST-MODIFIED:20260213T111249Z
UID:10004881-1784106000-1784144700@serrescircuit.gr
SUMMARY:OPEN TRACK DAY/ΕΛΕΥΘΕΡΗ ΠΡΟΠΟΝΗΣΗ
DESCRIPTION:
URL:https://serrescircuit.gr/the-event/open-track-day-eleftheri-proponisi-62/
END:VEVENT
BEGIN:VEVENT
DTSTART;TZID=Europe/Athens:20260716T090000
DTEND;TZID=Europe/Athens:20260716T194500
DTSTAMP:20260420T082703
CREATED:20260213T082946Z
LAST-MODIFIED:20260213T111249Z
UID:10004871-1784192400-1784231100@serrescircuit.gr
SUMMARY:OPEN TRACK DAY/ΕΛΕΥΘΕΡΗ ΠΡΟΠΟΝΗΣΗ
DESCRIPTION:
URL:https://serrescircuit.gr/the-event/open-track-day-eleftheri-proponisi-53/
END:VEVENT
BEGIN:VEVENT
DTSTART;TZID=Europe/Athens:20260717T090000
DTEND;TZID=Europe/Athens:20260717T194500
DTSTAMP:20260420T082703
CREATED:20260213T082945Z
LAST-MODIFIED:20260213T111248Z
UID:10004861-1784278800-1784317500@serrescircuit.gr
SUMMARY:OPEN TRACK DAY/ΕΛΕΥΘΕΡΗ ΠΡΟΠΟΝΗΣΗ
DESCRIPTION:
URL:https://serrescircuit.gr/the-event/open-track-day-eleftheri-proponisi-45/
END:VEVENT
BEGIN:VEVENT
DTSTART;TZID=Europe/Athens:20260718T090000
DTEND;TZID=Europe/Athens:20260718T194500
DTSTAMP:20260420T082703
CREATED:20260213T082952Z
LAST-MODIFIED:20260213T111252Z
UID:10004925-1784365200-1784403900@serrescircuit.gr
SUMMARY:OPEN TRACK DAY/ΕΛΕΥΘΕΡΗ ΠΡΟΠΟΝΗΣΗ
DESCRIPTION:
URL:https://serrescircuit.gr/the-event/open-track-day-eleftheri-proponisi-99/
END:VEVENT
BEGIN:VEVENT
DTSTART;TZID=Europe/Athens:20260719T090000
DTEND;TZID=Europe/Athens:20260719T194500
DTSTAMP:20260420T082703
CREATED:20260213T082958Z
LAST-MODIFIED:20260213T111254Z
UID:10004978-1784451600-1784490300@serrescircuit.gr
SUMMARY:OPEN TRACK DAY/ΕΛΕΥΘΕΡΗ ΠΡΟΠΟΝΗΣΗ
DESCRIPTION:
URL:https://serrescircuit.gr/the-event/open-track-day-eleftheri-proponisi-146/
END:VEVENT
BEGIN:VEVENT
DTSTART;TZID=Europe/Athens:20260720T090000
DTEND;TZID=Europe/Athens:20260720T194000
DTSTAMP:20260420T082703
CREATED:20260213T082955Z
LAST-MODIFIED:20260213T111253Z
UID:10004956-1784538000-1784576400@serrescircuit.gr
SUMMARY:OPEN TRACK DAY/ΕΛΕΥΘΕΡΗ ΠΡΟΠΟΝΗΣΗ
DESCRIPTION:
URL:https://serrescircuit.gr/the-event/open-track-day-eleftheri-proponisi-127/
END:VEVENT
BEGIN:VEVENT
DTSTART;TZID=Europe/Athens:20260721T090000
DTEND;TZID=Europe/Athens:20260721T194000
DTSTAMP:20260420T082703
CREATED:20260213T082947Z
LAST-MODIFIED:20260213T111249Z
UID:10004879-1784624400-1784662800@serrescircuit.gr
SUMMARY:OPEN TRACK DAY/ΕΛΕΥΘΕΡΗ ΠΡΟΠΟΝΗΣΗ
DESCRIPTION:
URL:https://serrescircuit.gr/the-event/open-track-day-eleftheri-proponisi-60/
END:VEVENT
BEGIN:VEVENT
DTSTART;TZID=Europe/Athens:20260722T090000
DTEND;TZID=Europe/Athens:20260722T194000
DTSTAMP:20260420T082703
CREATED:20260213T082951Z
LAST-MODIFIED:20260213T111252Z
UID:10004918-1784710800-1784749200@serrescircuit.gr
SUMMARY:OPEN TRACK DAY/ΕΛΕΥΘΕΡΗ ΠΡΟΠΟΝΗΣΗ
DESCRIPTION:
URL:https://serrescircuit.gr/the-event/open-track-day-eleftheri-proponisi-93/
END:VEVENT
BEGIN:VEVENT
DTSTART;TZID=Europe/Athens:20260723T090000
DTEND;TZID=Europe/Athens:20260723T194000
DTSTAMP:20260420T082703
CREATED:20260213T082952Z
LAST-MODIFIED:20260213T111252Z
UID:10004928-1784797200-1784835600@serrescircuit.gr
SUMMARY:OPEN TRACK DAY/ΕΛΕΥΘΕΡΗ ΠΡΟΠΟΝΗΣΗ
DESCRIPTION:
URL:https://serrescircuit.gr/the-event/open-track-day-eleftheri-proponisi-101/
END:VEVENT
BEGIN:VEVENT
DTSTART;TZID=Europe/Athens:20260724T090000
DTEND;TZID=Europe/Athens:20260724T194000
DTSTAMP:20260420T082703
CREATED:20260213T082954Z
LAST-MODIFIED:20260213T111252Z
UID:10004941-1784883600-1784922000@serrescircuit.gr
SUMMARY:OPEN TRACK DAY/ΕΛΕΥΘΕΡΗ ΠΡΟΠΟΝΗΣΗ
DESCRIPTION:
URL:https://serrescircuit.gr/the-event/open-track-day-eleftheri-proponisi-113/
END:VEVENT
BEGIN:VEVENT
DTSTART;TZID=Europe/Athens:20260725T090000
DTEND;TZID=Europe/Athens:20260725T194000
DTSTAMP:20260420T082703
CREATED:20260213T082945Z
LAST-MODIFIED:20260213T111248Z
UID:10004860-1784970000-1785008400@serrescircuit.gr
SUMMARY:OPEN TRACK DAY/ΕΛΕΥΘΕΡΗ ΠΡΟΠΟΝΗΣΗ
DESCRIPTION:
URL:https://serrescircuit.gr/the-event/open-track-day-eleftheri-proponisi-44/
END:VEVENT
BEGIN:VEVENT
DTSTART;TZID=Europe/Athens:20260726T090000
DTEND;TZID=Europe/Athens:20260726T194000
DTSTAMP:20260420T082703
CREATED:20260213T082949Z
LAST-MODIFIED:20260213T111249Z
UID:10004899-1785056400-1785094800@serrescircuit.gr
SUMMARY:OPEN TRACK DAY/ΕΛΕΥΘΕΡΗ ΠΡΟΠΟΝΗΣΗ
DESCRIPTION:
URL:https://serrescircuit.gr/the-event/open-track-day-eleftheri-proponisi-75/
END:VEVENT
BEGIN:VEVENT
DTSTART;TZID=Europe/Athens:20260727T090000
DTEND;TZID=Europe/Athens:20260727T193500
DTSTAMP:20260420T082703
CREATED:20260213T082950Z
LAST-MODIFIED:20260213T111250Z
UID:10004910-1785142800-1785180900@serrescircuit.gr
SUMMARY:OPEN TRACK DAY/ΕΛΕΥΘΕΡΗ ΠΡΟΠΟΝΗΣΗ
DESCRIPTION:
URL:https://serrescircuit.gr/the-event/open-track-day-eleftheri-proponisi-85/
END:VEVENT
BEGIN:VEVENT
DTSTART;TZID=Europe/Athens:20260728T090000
DTEND;TZID=Europe/Athens:20260728T193500
DTSTAMP:20260420T082703
CREATED:20260213T083009Z
LAST-MODIFIED:20260213T111257Z
UID:10005048-1785229200-1785267300@serrescircuit.gr
SUMMARY:OPEN TRACK DAY/ΕΛΕΥΘΕΡΗ ΠΡΟΠΟΝΗΣΗ
DESCRIPTION:
URL:https://serrescircuit.gr/the-event/open-track-day-eleftheri-proponisi-199/
END:VEVENT
BEGIN:VEVENT
DTSTART;TZID=Europe/Athens:20260729T090000
DTEND;TZID=Europe/Athens:20260729T193500
DTSTAMP:20260420T082703
CREATED:20260213T082952Z
LAST-MODIFIED:20260213T111252Z
UID:10004929-1785315600-1785353700@serrescircuit.gr
SUMMARY:OPEN TRACK DAY/ΕΛΕΥΘΕΡΗ ΠΡΟΠΟΝΗΣΗ
DESCRIPTION:
URL:https://serrescircuit.gr/the-event/open-track-day-eleftheri-proponisi-102/
END:VEVENT
BEGIN:VEVENT
DTSTART;TZID=Europe/Athens:20260730T090000
DTEND;TZID=Europe/Athens:20260730T193500
DTSTAMP:20260420T082703
CREATED:20260213T083008Z
LAST-MODIFIED:20260213T111257Z
UID:10005043-1785402000-1785440100@serrescircuit.gr
SUMMARY:OPEN TRACK DAY/ΕΛΕΥΘΕΡΗ ΠΡΟΠΟΝΗΣΗ
DESCRIPTION:
URL:https://serrescircuit.gr/the-event/open-track-day-eleftheri-proponisi-195/
END:VEVENT
BEGIN:VEVENT
DTSTART;TZID=Europe/Athens:20260731T090000
DTEND;TZID=Europe/Athens:20260731T193500
DTSTAMP:20260420T082703
CREATED:20260213T082948Z
LAST-MODIFIED:20260213T111249Z
UID:10004892-1785488400-1785526500@serrescircuit.gr
SUMMARY:OPEN TRACK DAY/ΕΛΕΥΘΕΡΗ ΠΡΟΠΟΝΗΣΗ
DESCRIPTION:
URL:https://serrescircuit.gr/the-event/open-track-day-eleftheri-proponisi-69/
END:VEVENT
BEGIN:VEVENT
DTSTART;TZID=Europe/Athens:20260801T090000
DTEND;TZID=Europe/Athens:20260801T193000
DTSTAMP:20260420T082703
CREATED:20260213T082942Z
LAST-MODIFIED:20260213T111247Z
UID:10004829-1785574800-1785612600@serrescircuit.gr
SUMMARY:OPEN TRACK DAY/ΕΛΕΥΘΕΡΗ ΠΡΟΠΟΝΗΣΗ
DESCRIPTION:
URL:https://serrescircuit.gr/the-event/open-track-day-eleftheri-proponisi-14/
END:VEVENT
END:VCALENDAR