BEGIN:VCALENDAR
VERSION:2.0
PRODID:-//Serres Circuit Αυτοκινητοδρόμιο - ECPv6.15.18//NONSGML v1.0//EN
CALSCALE:GREGORIAN
METHOD:PUBLISH
X-WR-CALNAME:Serres Circuit Αυτοκινητοδρόμιο
X-ORIGINAL-URL:https://serrescircuit.gr
X-WR-CALDESC:Events for Serres Circuit Αυτοκινητοδρόμιο
REFRESH-INTERVAL;VALUE=DURATION:PT1H
X-Robots-Tag:noindex
X-PUBLISHED-TTL:PT1H
BEGIN:VTIMEZONE
TZID:Europe/Athens
BEGIN:DAYLIGHT
TZOFFSETFROM:+0200
TZOFFSETTO:+0300
TZNAME:EEST
DTSTART:20250330T010000
END:DAYLIGHT
BEGIN:STANDARD
TZOFFSETFROM:+0300
TZOFFSETTO:+0200
TZNAME:EET
DTSTART:20251026T010000
END:STANDARD
BEGIN:DAYLIGHT
TZOFFSETFROM:+0200
TZOFFSETTO:+0300
TZNAME:EEST
DTSTART:20260329T010000
END:DAYLIGHT
BEGIN:STANDARD
TZOFFSETFROM:+0300
TZOFFSETTO:+0200
TZNAME:EET
DTSTART:20261025T010000
END:STANDARD
BEGIN:DAYLIGHT
TZOFFSETFROM:+0200
TZOFFSETTO:+0300
TZNAME:EEST
DTSTART:20270328T010000
END:DAYLIGHT
BEGIN:STANDARD
TZOFFSETFROM:+0300
TZOFFSETTO:+0200
TZNAME:EET
DTSTART:20271031T010000
END:STANDARD
END:VTIMEZONE
BEGIN:VEVENT
DTSTART;VALUE=DATE:20261030
DTEND;VALUE=DATE:20261102
DTSTAMP:20260420T201159
CREATED:20260213T083011Z
LAST-MODIFIED:20260213T134304Z
UID:10005064-1793318400-1793577599@serrescircuit.gr
SUMMARY:EXTREME TRACK DAYS BY ZAFEIROPOULOS
DESCRIPTION:This is an event reminder
URL:https://serrescircuit.gr/the-event/extreme-track-days-by-zafeiropoulos-2/
END:VEVENT
BEGIN:VEVENT
DTSTART;TZID=Europe/Athens:20261102T090000
DTEND;TZID=Europe/Athens:20261102T162500
DTSTAMP:20260420T201159
CREATED:20260213T082949Z
LAST-MODIFIED:20260213T111250Z
UID:10004902-1793610000-1793636700@serrescircuit.gr
SUMMARY:OPEN TRACK DAY/ΕΛΕΥΘΕΡΗ ΠΡΟΠΟΝΗΣΗ
DESCRIPTION:
URL:https://serrescircuit.gr/the-event/open-track-day-eleftheri-proponisi-78/
END:VEVENT
BEGIN:VEVENT
DTSTART;TZID=Europe/Athens:20261103T090000
DTEND;TZID=Europe/Athens:20261103T162000
DTSTAMP:20260420T201159
CREATED:20260213T083005Z
LAST-MODIFIED:20260213T111255Z
UID:10005020-1793696400-1793722800@serrescircuit.gr
SUMMARY:OPEN TRACK DAY/ΕΛΕΥΘΕΡΗ ΠΡΟΠΟΝΗΣΗ
DESCRIPTION:
URL:https://serrescircuit.gr/the-event/open-track-day-eleftheri-proponisi-178/
END:VEVENT
BEGIN:VEVENT
DTSTART;VALUE=DATE:20261104
DTEND;VALUE=DATE:20261109
DTSTAMP:20260420T201159
CREATED:20260213T083010Z
LAST-MODIFIED:20260213T134423Z
UID:10005054-1793750400-1794182399@serrescircuit.gr
SUMMARY:AUTO TRACK DAYS BY LAP BATTLE NPO
DESCRIPTION:This is an event reminder
URL:https://serrescircuit.gr/the-event/auto-track-days-by-lap-battle-npo/
END:VEVENT
BEGIN:VEVENT
DTSTART;TZID=Europe/Athens:20261109T090000
DTEND;TZID=Europe/Athens:20261109T161500
DTSTAMP:20260420T201159
CREATED:20260213T083013Z
LAST-MODIFIED:20260213T111258Z
UID:10005077-1794214800-1794240900@serrescircuit.gr
SUMMARY:OPEN TRACK DAY/ΕΛΕΥΘΕΡΗ ΠΡΟΠΟΝΗΣΗ
DESCRIPTION:
URL:https://serrescircuit.gr/the-event/open-track-day-eleftheri-proponisi-217/
END:VEVENT
BEGIN:VEVENT
DTSTART;TZID=Europe/Athens:20261110T090000
DTEND;TZID=Europe/Athens:20261110T161500
DTSTAMP:20260420T201159
CREATED:20260213T083004Z
LAST-MODIFIED:20260213T111255Z
UID:10005010-1794301200-1794327300@serrescircuit.gr
SUMMARY:OPEN TRACK DAY/ΕΛΕΥΘΕΡΗ ΠΡΟΠΟΝΗΣΗ
DESCRIPTION:
URL:https://serrescircuit.gr/the-event/open-track-day-eleftheri-proponisi-170/
END:VEVENT
BEGIN:VEVENT
DTSTART;TZID=Europe/Athens:20261111T090000
DTEND;TZID=Europe/Athens:20261111T161500
DTSTAMP:20260420T201159
CREATED:20260213T082942Z
LAST-MODIFIED:20260213T111247Z
UID:10004832-1794387600-1794413700@serrescircuit.gr
SUMMARY:OPEN TRACK DAY/ΕΛΕΥΘΕΡΗ ΠΡΟΠΟΝΗΣΗ
DESCRIPTION:
URL:https://serrescircuit.gr/the-event/open-track-day-eleftheri-proponisi-17/
END:VEVENT
BEGIN:VEVENT
DTSTART;TZID=Europe/Athens:20261112T090000
DTEND;TZID=Europe/Athens:20261112T161500
DTSTAMP:20260420T201159
CREATED:20260213T083007Z
LAST-MODIFIED:20260213T111257Z
UID:10005036-1794474000-1794500100@serrescircuit.gr
SUMMARY:OPEN TRACK DAY/ΕΛΕΥΘΕΡΗ ΠΡΟΠΟΝΗΣΗ
DESCRIPTION:
URL:https://serrescircuit.gr/the-event/open-track-day-eleftheri-proponisi-189/
END:VEVENT
BEGIN:VEVENT
DTSTART;VALUE=DATE:20261113
DTEND;VALUE=DATE:20261116
DTSTAMP:20260420T201159
CREATED:20260213T082959Z
LAST-MODIFIED:20260213T134428Z
UID:10004982-1794528000-1794787199@serrescircuit.gr
SUMMARY:GREEK DRAGSTER CHAMPIONSHIP BY LENOE
DESCRIPTION:This is an event reminder
URL:https://serrescircuit.gr/the-event/greek-dragster-championship-by-lenoe-3/
END:VEVENT
BEGIN:VEVENT
DTSTART;TZID=Europe/Athens:20261116T090000
DTEND;TZID=Europe/Athens:20261116T161000
DTSTAMP:20260420T201159
CREATED:20260213T083014Z
LAST-MODIFIED:20260213T111259Z
UID:10005085-1794819600-1794845400@serrescircuit.gr
SUMMARY:OPEN TRACK DAY/ΕΛΕΥΘΕΡΗ ΠΡΟΠΟΝΗΣΗ
DESCRIPTION:
URL:https://serrescircuit.gr/the-event/open-track-day-eleftheri-proponisi-224/
END:VEVENT
BEGIN:VEVENT
DTSTART;TZID=Europe/Athens:20261117T090000
DTEND;TZID=Europe/Athens:20261117T161000
DTSTAMP:20260420T201159
CREATED:20260213T082952Z
LAST-MODIFIED:20260213T111252Z
UID:10004930-1794906000-1794931800@serrescircuit.gr
SUMMARY:OPEN TRACK DAY/ΕΛΕΥΘΕΡΗ ΠΡΟΠΟΝΗΣΗ
DESCRIPTION:
URL:https://serrescircuit.gr/the-event/open-track-day-eleftheri-proponisi-103/
END:VEVENT
BEGIN:VEVENT
DTSTART;TZID=Europe/Athens:20261118T090000
DTEND;TZID=Europe/Athens:20261118T161000
DTSTAMP:20260420T201159
CREATED:20260213T083011Z
LAST-MODIFIED:20260213T111258Z
UID:10005062-1794992400-1795018200@serrescircuit.gr
SUMMARY:OPEN TRACK DAY/ΕΛΕΥΘΕΡΗ ΠΡΟΠΟΝΗΣΗ
DESCRIPTION:
URL:https://serrescircuit.gr/the-event/open-track-day-eleftheri-proponisi-206/
END:VEVENT
BEGIN:VEVENT
DTSTART;VALUE=DATE:20261119
DTEND;VALUE=DATE:20261121
DTSTAMP:20260420T201159
CREATED:20260213T083005Z
LAST-MODIFIED:20260319T204556Z
UID:10005021-1795046400-1795219199@serrescircuit.gr
SUMMARY:BMW CLUB BG
DESCRIPTION:
URL:https://serrescircuit.gr/the-event/open-track-day-eleftheri-proponisi-179/
END:VEVENT
BEGIN:VEVENT
DTSTART;VALUE=DATE:20261121
DTEND;VALUE=DATE:20261123
DTSTAMP:20260420T201159
CREATED:20260213T082944Z
LAST-MODIFIED:20260319T204843Z
UID:10004855-1795219200-1795391999@serrescircuit.gr
SUMMARY:TRACKDAYS BY TRACKSPEED
DESCRIPTION:
URL:https://serrescircuit.gr/the-event/open-track-day-eleftheri-proponisi-39/
END:VEVENT
BEGIN:VEVENT
DTSTART;TZID=Europe/Athens:20261123T090000
DTEND;TZID=Europe/Athens:20261123T160500
DTSTAMP:20260420T201159
CREATED:20260213T082950Z
LAST-MODIFIED:20260213T111250Z
UID:10004913-1795424400-1795449900@serrescircuit.gr
SUMMARY:OPEN TRACK DAY/ΕΛΕΥΘΕΡΗ ΠΡΟΠΟΝΗΣΗ
DESCRIPTION:
URL:https://serrescircuit.gr/the-event/open-track-day-eleftheri-proponisi-88/
END:VEVENT
BEGIN:VEVENT
DTSTART;TZID=Europe/Athens:20261124T090000
DTEND;TZID=Europe/Athens:20261124T160500
DTSTAMP:20260420T201159
CREATED:20260213T083012Z
LAST-MODIFIED:20260213T111258Z
UID:10005070-1795510800-1795536300@serrescircuit.gr
SUMMARY:OPEN TRACK DAY/ΕΛΕΥΘΕΡΗ ΠΡΟΠΟΝΗΣΗ
DESCRIPTION:
URL:https://serrescircuit.gr/the-event/open-track-day-eleftheri-proponisi-212/
END:VEVENT
BEGIN:VEVENT
DTSTART;TZID=Europe/Athens:20261125T090000
DTEND;TZID=Europe/Athens:20261125T160500
DTSTAMP:20260420T201159
CREATED:20260213T082945Z
LAST-MODIFIED:20260213T111248Z
UID:10004858-1795597200-1795622700@serrescircuit.gr
SUMMARY:OPEN TRACK DAY/ΕΛΕΥΘΕΡΗ ΠΡΟΠΟΝΗΣΗ
DESCRIPTION:
URL:https://serrescircuit.gr/the-event/open-track-day-eleftheri-proponisi-42/
END:VEVENT
BEGIN:VEVENT
DTSTART;TZID=Europe/Athens:20261126T090000
DTEND;TZID=Europe/Athens:20261126T160500
DTSTAMP:20260420T201159
CREATED:20260213T083002Z
LAST-MODIFIED:20260213T111254Z
UID:10005002-1795683600-1795709100@serrescircuit.gr
SUMMARY:OPEN TRACK DAY/ΕΛΕΥΘΕΡΗ ΠΡΟΠΟΝΗΣΗ
DESCRIPTION:
URL:https://serrescircuit.gr/the-event/open-track-day-eleftheri-proponisi-164/
END:VEVENT
BEGIN:VEVENT
DTSTART;TZID=Europe/Athens:20261127T090000
DTEND;TZID=Europe/Athens:20261127T160500
DTSTAMP:20260420T201159
CREATED:20260213T082957Z
LAST-MODIFIED:20260213T111253Z
UID:10004971-1795770000-1795795500@serrescircuit.gr
SUMMARY:OPEN TRACK DAY/ΕΛΕΥΘΕΡΗ ΠΡΟΠΟΝΗΣΗ
DESCRIPTION:
URL:https://serrescircuit.gr/the-event/open-track-day-eleftheri-proponisi-140/
END:VEVENT
BEGIN:VEVENT
DTSTART;VALUE=DATE:20261128
DTEND;VALUE=DATE:20261130
DTSTAMP:20260420T201159
CREATED:20260213T082941Z
LAST-MODIFIED:20260213T134434Z
UID:10004818-1795824000-1795996799@serrescircuit.gr
SUMMARY:TRACKDAYS BY TRACKSPEED
DESCRIPTION:This is an event reminder
URL:https://serrescircuit.gr/the-event/trackdays-by-trackspeed/
END:VEVENT
BEGIN:VEVENT
DTSTART;TZID=Europe/Athens:20261130T090000
DTEND;TZID=Europe/Athens:20261130T160500
DTSTAMP:20260420T201159
CREATED:20260213T082945Z
LAST-MODIFIED:20260213T111248Z
UID:10004863-1796029200-1796054700@serrescircuit.gr
SUMMARY:OPEN TRACK DAY/ΕΛΕΥΘΕΡΗ ΠΡΟΠΟΝΗΣΗ
DESCRIPTION:
URL:https://serrescircuit.gr/the-event/open-track-day-eleftheri-proponisi-46/
END:VEVENT
BEGIN:VEVENT
DTSTART;TZID=Europe/Athens:20261201T090000
DTEND;TZID=Europe/Athens:20261201T160500
DTSTAMP:20260420T201159
CREATED:20260213T082958Z
LAST-MODIFIED:20260213T111254Z
UID:10004977-1796115600-1796141100@serrescircuit.gr
SUMMARY:OPEN TRACK DAY/ΕΛΕΥΘΕΡΗ ΠΡΟΠΟΝΗΣΗ
DESCRIPTION:
URL:https://serrescircuit.gr/the-event/open-track-day-eleftheri-proponisi-145/
END:VEVENT
BEGIN:VEVENT
DTSTART;TZID=Europe/Athens:20261202T090000
DTEND;TZID=Europe/Athens:20261202T160500
DTSTAMP:20260420T201159
CREATED:20260213T082951Z
LAST-MODIFIED:20260213T111250Z
UID:10004917-1796202000-1796227500@serrescircuit.gr
SUMMARY:OPEN TRACK DAY/ΕΛΕΥΘΕΡΗ ΠΡΟΠΟΝΗΣΗ
DESCRIPTION:
URL:https://serrescircuit.gr/the-event/open-track-day-eleftheri-proponisi-92/
END:VEVENT
BEGIN:VEVENT
DTSTART;TZID=Europe/Athens:20261203T090000
DTEND;TZID=Europe/Athens:20261203T160500
DTSTAMP:20260420T201159
CREATED:20260213T082956Z
LAST-MODIFIED:20260213T111253Z
UID:10004957-1796288400-1796313900@serrescircuit.gr
SUMMARY:OPEN TRACK DAY/ΕΛΕΥΘΕΡΗ ΠΡΟΠΟΝΗΣΗ
DESCRIPTION:
URL:https://serrescircuit.gr/the-event/open-track-day-eleftheri-proponisi-128/
END:VEVENT
BEGIN:VEVENT
DTSTART;TZID=Europe/Athens:20261204T090000
DTEND;TZID=Europe/Athens:20261204T160500
DTSTAMP:20260420T201159
CREATED:20260213T082950Z
LAST-MODIFIED:20260213T111250Z
UID:10004908-1796374800-1796400300@serrescircuit.gr
SUMMARY:OPEN TRACK DAY/ΕΛΕΥΘΕΡΗ ΠΡΟΠΟΝΗΣΗ
DESCRIPTION:
URL:https://serrescircuit.gr/the-event/open-track-day-eleftheri-proponisi-83/
END:VEVENT
BEGIN:VEVENT
DTSTART;VALUE=DATE:20261205
DTEND;VALUE=DATE:20261207
DTSTAMP:20260420T201159
CREATED:20260213T083013Z
LAST-MODIFIED:20260213T134527Z
UID:10005074-1796428800-1796601599@serrescircuit.gr
SUMMARY:AUTO TRACK DAYS BY MOTORSPORT-SPEC.GR
DESCRIPTION:This is an event reminder
URL:https://serrescircuit.gr/the-event/auto-track-days-by-motorsport-spec-gr/
END:VEVENT
BEGIN:VEVENT
DTSTART;TZID=Europe/Athens:20261207T090000
DTEND;TZID=Europe/Athens:20261207T160500
DTSTAMP:20260420T201159
CREATED:20260213T082957Z
LAST-MODIFIED:20260213T111253Z
UID:10004967-1796634000-1796659500@serrescircuit.gr
SUMMARY:OPEN TRACK DAY/ΕΛΕΥΘΕΡΗ ΠΡΟΠΟΝΗΣΗ
DESCRIPTION:
URL:https://serrescircuit.gr/the-event/open-track-day-eleftheri-proponisi-136/
END:VEVENT
BEGIN:VEVENT
DTSTART;TZID=Europe/Athens:20261208T090000
DTEND;TZID=Europe/Athens:20261208T160500
DTSTAMP:20260420T201159
CREATED:20260213T083000Z
LAST-MODIFIED:20260213T111254Z
UID:10004993-1796720400-1796745900@serrescircuit.gr
SUMMARY:OPEN TRACK DAY/ΕΛΕΥΘΕΡΗ ΠΡΟΠΟΝΗΣΗ
DESCRIPTION:
URL:https://serrescircuit.gr/the-event/open-track-day-eleftheri-proponisi-158/
END:VEVENT
BEGIN:VEVENT
DTSTART;TZID=Europe/Athens:20261209T090000
DTEND;TZID=Europe/Athens:20261209T160500
DTSTAMP:20260420T201159
CREATED:20260213T082950Z
LAST-MODIFIED:20260213T111250Z
UID:10004915-1796806800-1796832300@serrescircuit.gr
SUMMARY:OPEN TRACK DAY/ΕΛΕΥΘΕΡΗ ΠΡΟΠΟΝΗΣΗ
DESCRIPTION:
URL:https://serrescircuit.gr/the-event/open-track-day-eleftheri-proponisi-90/
END:VEVENT
BEGIN:VEVENT
DTSTART;TZID=Europe/Athens:20261210T090000
DTEND;TZID=Europe/Athens:20261210T160500
DTSTAMP:20260420T201159
CREATED:20260213T083004Z
LAST-MODIFIED:20260213T111255Z
UID:10005012-1796893200-1796918700@serrescircuit.gr
SUMMARY:OPEN TRACK DAY/ΕΛΕΥΘΕΡΗ ΠΡΟΠΟΝΗΣΗ
DESCRIPTION:
URL:https://serrescircuit.gr/the-event/open-track-day-eleftheri-proponisi-172/
END:VEVENT
END:VCALENDAR