BEGIN:VCALENDAR
VERSION:2.0
PRODID:-//Serres Circuit Αυτοκινητοδρόμιο - ECPv6.15.18//NONSGML v1.0//EN
CALSCALE:GREGORIAN
METHOD:PUBLISH
X-WR-CALNAME:Serres Circuit Αυτοκινητοδρόμιο
X-ORIGINAL-URL:https://serrescircuit.gr
X-WR-CALDESC:Events for Serres Circuit Αυτοκινητοδρόμιο
REFRESH-INTERVAL;VALUE=DURATION:PT1H
X-Robots-Tag:noindex
X-PUBLISHED-TTL:PT1H
BEGIN:VTIMEZONE
TZID:Europe/Athens
BEGIN:DAYLIGHT
TZOFFSETFROM:+0200
TZOFFSETTO:+0300
TZNAME:EEST
DTSTART:20250330T010000
END:DAYLIGHT
BEGIN:STANDARD
TZOFFSETFROM:+0300
TZOFFSETTO:+0200
TZNAME:EET
DTSTART:20251026T010000
END:STANDARD
BEGIN:DAYLIGHT
TZOFFSETFROM:+0200
TZOFFSETTO:+0300
TZNAME:EEST
DTSTART:20260329T010000
END:DAYLIGHT
BEGIN:STANDARD
TZOFFSETFROM:+0300
TZOFFSETTO:+0200
TZNAME:EET
DTSTART:20261025T010000
END:STANDARD
BEGIN:DAYLIGHT
TZOFFSETFROM:+0200
TZOFFSETTO:+0300
TZNAME:EEST
DTSTART:20270328T010000
END:DAYLIGHT
BEGIN:STANDARD
TZOFFSETFROM:+0300
TZOFFSETTO:+0200
TZNAME:EET
DTSTART:20271031T010000
END:STANDARD
END:VTIMEZONE
BEGIN:VEVENT
DTSTART;TZID=Europe/Athens:20260615T090000
DTEND;TZID=Europe/Athens:20260615T195000
DTSTAMP:20260423T135542
CREATED:20260317T163521Z
LAST-MODIFIED:20260423T094903Z
UID:10005143-1781514000-1781553000@serrescircuit.gr
SUMMARY:OPEN TRACK DAY/ΕΛΕΥΘΕΡΗ ΠΡΟΠΟΝΗΣΗ
DESCRIPTION:
URL:https://serrescircuit.gr/the-event/scientific-research-by-emisia-3/
LOCATION:Σέρρες\, Greece
CATEGORIES:OPEN TRACK DAY/ΕΛΕΥΘΕΡΗ ΠΡΟΠΟΝΗΣΗ
END:VEVENT
BEGIN:VEVENT
DTSTART;TZID=Europe/Athens:20260616T090000
DTEND;TZID=Europe/Athens:20260616T195000
DTSTAMP:20260423T135542
CREATED:20260423T095230Z
LAST-MODIFIED:20260423T095243Z
UID:10005150-1781600400-1781639400@serrescircuit.gr
SUMMARY:OPEN TRACK DAY/ΕΛΕΥΘΕΡΗ ΠΡΟΠΟΝΗΣΗ
DESCRIPTION:
URL:https://serrescircuit.gr/the-event/open-track-day-%ce%b5%ce%bb%ce%b5%cf%85%ce%b8%ce%b5%cf%81%ce%b7-%cf%80%cf%81%ce%bf%cf%80%ce%bf%ce%bd%ce%b7%cf%83%ce%b7-2/
CATEGORIES:OPEN TRACK DAY/ΕΛΕΥΘΕΡΗ ΠΡΟΠΟΝΗΣΗ
END:VEVENT
BEGIN:VEVENT
DTSTART;TZID=Europe/Athens:20260617T090000
DTEND;TZID=Europe/Athens:20260617T195000
DTSTAMP:20260423T135542
CREATED:20260423T095403Z
LAST-MODIFIED:20260423T095427Z
UID:10005151-1781686800-1781725800@serrescircuit.gr
SUMMARY:OPEN TRACK DAY/ΕΛΕΥΘΕΡΗ ΠΡΟΠΟΝΗΣΗ
DESCRIPTION:
URL:https://serrescircuit.gr/the-event/open-track-day-%ce%b5%ce%bb%ce%b5%cf%85%ce%b8%ce%b5%cf%81%ce%b7-%cf%80%cf%81%ce%bf%cf%80%ce%bf%ce%bd%ce%b7%cf%83%ce%b7-3/
CATEGORIES:OPEN TRACK DAY/ΕΛΕΥΘΕΡΗ ΠΡΟΠΟΝΗΣΗ
END:VEVENT
BEGIN:VEVENT
DTSTART;TZID=Europe/Athens:20260618T090000
DTEND;TZID=Europe/Athens:20260618T194500
DTSTAMP:20260423T135542
CREATED:20260213T082956Z
LAST-MODIFIED:20260213T111253Z
UID:10004961-1781773200-1781811900@serrescircuit.gr
SUMMARY:OPEN TRACK DAY/ΕΛΕΥΘΕΡΗ ΠΡΟΠΟΝΗΣΗ
DESCRIPTION:
URL:https://serrescircuit.gr/the-event/open-track-day-eleftheri-proponisi-131/
END:VEVENT
BEGIN:VEVENT
DTSTART;TZID=Europe/Athens:20260619T090000
DTEND;TZID=Europe/Athens:20260619T194500
DTSTAMP:20260423T135542
CREATED:20260213T083006Z
LAST-MODIFIED:20260213T111255Z
UID:10005026-1781859600-1781898300@serrescircuit.gr
SUMMARY:OPEN TRACK DAY/ΕΛΕΥΘΕΡΗ ΠΡΟΠΟΝΗΣΗ
DESCRIPTION:
URL:https://serrescircuit.gr/the-event/open-track-day-eleftheri-proponisi-181/
END:VEVENT
BEGIN:VEVENT
DTSTART;VALUE=DATE:20260620
DTEND;VALUE=DATE:20260622
DTSTAMP:20260423T135542
CREATED:20260213T082959Z
LAST-MODIFIED:20260213T133939Z
UID:10004986-1781913600-1782086399@serrescircuit.gr
SUMMARY:GS MOTODAYS
DESCRIPTION:This is an event reminder
URL:https://serrescircuit.gr/the-event/gs-motodays-2/
END:VEVENT
END:VCALENDAR