BEGIN:VCALENDAR
VERSION:2.0
PRODID:-//Serres Circuit Αυτοκινητοδρόμιο - ECPv6.15.18//NONSGML v1.0//EN
CALSCALE:GREGORIAN
METHOD:PUBLISH
X-WR-CALNAME:Serres Circuit Αυτοκινητοδρόμιο
X-ORIGINAL-URL:https://serrescircuit.gr
X-WR-CALDESC:Events for Serres Circuit Αυτοκινητοδρόμιο
REFRESH-INTERVAL;VALUE=DURATION:PT1H
X-Robots-Tag:noindex
X-PUBLISHED-TTL:PT1H
BEGIN:VTIMEZONE
TZID:Europe/Athens
BEGIN:DAYLIGHT
TZOFFSETFROM:+0200
TZOFFSETTO:+0300
TZNAME:EEST
DTSTART:20250330T010000
END:DAYLIGHT
BEGIN:STANDARD
TZOFFSETFROM:+0300
TZOFFSETTO:+0200
TZNAME:EET
DTSTART:20251026T010000
END:STANDARD
BEGIN:DAYLIGHT
TZOFFSETFROM:+0200
TZOFFSETTO:+0300
TZNAME:EEST
DTSTART:20260329T010000
END:DAYLIGHT
BEGIN:STANDARD
TZOFFSETFROM:+0300
TZOFFSETTO:+0200
TZNAME:EET
DTSTART:20261025T010000
END:STANDARD
BEGIN:DAYLIGHT
TZOFFSETFROM:+0200
TZOFFSETTO:+0300
TZNAME:EEST
DTSTART:20270328T010000
END:DAYLIGHT
BEGIN:STANDARD
TZOFFSETFROM:+0300
TZOFFSETTO:+0200
TZNAME:EET
DTSTART:20271031T010000
END:STANDARD
END:VTIMEZONE
BEGIN:VEVENT
DTSTART;TZID=Europe/Athens:20260629T090000
DTEND;TZID=Europe/Athens:20260629T195000
DTSTAMP:20260423T203509
CREATED:20260423T110518Z
LAST-MODIFIED:20260423T110534Z
UID:10005154-1782723600-1782762600@serrescircuit.gr
SUMMARY:OPEN TRACK DAY/ΕΛΕΥΘΕΡΗ ΠΡΟΠΟΝΗΣΗ
DESCRIPTION:
URL:https://serrescircuit.gr/the-event/open-track-day-%ce%b5%ce%bb%ce%b5%cf%85%ce%b8%ce%b5%cf%81%ce%b7-%cf%80%cf%81%ce%bf%cf%80%ce%bf%ce%bd%ce%b7%cf%83%ce%b7-5/
CATEGORIES:OPEN TRACK DAY/ΕΛΕΥΘΕΡΗ ΠΡΟΠΟΝΗΣΗ
END:VEVENT
BEGIN:VEVENT
DTSTART;VALUE=DATE:20260630
DTEND;VALUE=DATE:20260701
DTSTAMP:20260423T203509
CREATED:20260423T104158Z
LAST-MODIFIED:20260423T104217Z
UID:10005153-1782777600-1782863999@serrescircuit.gr
SUMMARY:SCIENTIFIC RESEARCH BY EMISIA
DESCRIPTION:
URL:https://serrescircuit.gr/the-event/scientific-research-by-emisia-10/
CATEGORIES:EVENTS
END:VEVENT
BEGIN:VEVENT
DTSTART;TZID=Europe/Athens:20260701T090000
DTEND;TZID=Europe/Athens:20260701T195000
DTSTAMP:20260423T203509
CREATED:20260213T083010Z
LAST-MODIFIED:20260213T111258Z
UID:10005059-1782896400-1782935400@serrescircuit.gr
SUMMARY:OPEN TRACK DAY/ΕΛΕΥΘΕΡΗ ΠΡΟΠΟΝΗΣΗ
DESCRIPTION:
URL:https://serrescircuit.gr/the-event/open-track-day-eleftheri-proponisi-204/
END:VEVENT
BEGIN:VEVENT
DTSTART;TZID=Europe/Athens:20260702T090000
DTEND;TZID=Europe/Athens:20260702T195000
DTSTAMP:20260423T203509
CREATED:20260213T082953Z
LAST-MODIFIED:20260213T111252Z
UID:10004934-1782982800-1783021800@serrescircuit.gr
SUMMARY:OPEN TRACK DAY/ΕΛΕΥΘΕΡΗ ΠΡΟΠΟΝΗΣΗ
DESCRIPTION:
URL:https://serrescircuit.gr/the-event/open-track-day-eleftheri-proponisi-106/
END:VEVENT
BEGIN:VEVENT
DTSTART;TZID=Europe/Athens:20260703T090000
DTEND;TZID=Europe/Athens:20260703T194500
DTSTAMP:20260423T203509
CREATED:20260213T082955Z
LAST-MODIFIED:20260213T111253Z
UID:10004955-1783069200-1783107900@serrescircuit.gr
SUMMARY:OPEN TRACK DAY/ΕΛΕΥΘΕΡΗ ΠΡΟΠΟΝΗΣΗ
DESCRIPTION:
URL:https://serrescircuit.gr/the-event/open-track-day-eleftheri-proponisi-126/
END:VEVENT
BEGIN:VEVENT
DTSTART;TZID=Europe/Athens:20260704T090000
DTEND;TZID=Europe/Athens:20260704T194500
DTSTAMP:20260423T203509
CREATED:20260213T082958Z
LAST-MODIFIED:20260213T111254Z
UID:10004974-1783155600-1783194300@serrescircuit.gr
SUMMARY:OPEN TRACK DAY/ΕΛΕΥΘΕΡΗ ΠΡΟΠΟΝΗΣΗ
DESCRIPTION:
URL:https://serrescircuit.gr/the-event/open-track-day-eleftheri-proponisi-142/
END:VEVENT
BEGIN:VEVENT
DTSTART;TZID=Europe/Athens:20260705T090000
DTEND;TZID=Europe/Athens:20260705T194500
DTSTAMP:20260423T203509
CREATED:20260213T083014Z
LAST-MODIFIED:20260213T111258Z
UID:10005082-1783242000-1783280700@serrescircuit.gr
SUMMARY:OPEN TRACK DAY/ΕΛΕΥΘΕΡΗ ΠΡΟΠΟΝΗΣΗ
DESCRIPTION:
URL:https://serrescircuit.gr/the-event/open-track-day-eleftheri-proponisi-221/
END:VEVENT
END:VCALENDAR