BEGIN:VCALENDAR
VERSION:2.0
PRODID:-//Serres Circuit Αυτοκινητοδρόμιο - ECPv6.15.18//NONSGML v1.0//EN
CALSCALE:GREGORIAN
METHOD:PUBLISH
X-ORIGINAL-URL:https://serrescircuit.gr
X-WR-CALDESC:Events for Serres Circuit Αυτοκινητοδρόμιο
REFRESH-INTERVAL;VALUE=DURATION:PT1H
X-Robots-Tag:noindex
X-PUBLISHED-TTL:PT1H
BEGIN:VTIMEZONE
TZID:Europe/Athens
BEGIN:DAYLIGHT
TZOFFSETFROM:+0200
TZOFFSETTO:+0300
TZNAME:EEST
DTSTART:20250330T010000
END:DAYLIGHT
BEGIN:STANDARD
TZOFFSETFROM:+0300
TZOFFSETTO:+0200
TZNAME:EET
DTSTART:20251026T010000
END:STANDARD
BEGIN:DAYLIGHT
TZOFFSETFROM:+0200
TZOFFSETTO:+0300
TZNAME:EEST
DTSTART:20260329T010000
END:DAYLIGHT
BEGIN:STANDARD
TZOFFSETFROM:+0300
TZOFFSETTO:+0200
TZNAME:EET
DTSTART:20261025T010000
END:STANDARD
BEGIN:DAYLIGHT
TZOFFSETFROM:+0200
TZOFFSETTO:+0300
TZNAME:EEST
DTSTART:20270328T010000
END:DAYLIGHT
BEGIN:STANDARD
TZOFFSETFROM:+0300
TZOFFSETTO:+0200
TZNAME:EET
DTSTART:20271031T010000
END:STANDARD
END:VTIMEZONE
BEGIN:VEVENT
DTSTART;VALUE=DATE:20260802
DTEND;VALUE=DATE:20260808
DTSTAMP:20260424T025741
CREATED:20260213T082943Z
LAST-MODIFIED:20260319T205307Z
UID:10004842-1785628800-1786147199@serrescircuit.gr
SUMMARY:FORMULA IHU
DESCRIPTION:
URL:https://serrescircuit.gr/the-event/open-track-day-eleftheri-proponisi-27/
END:VEVENT
BEGIN:VEVENT
DTSTART;TZID=Europe/Athens:20260808T090000
DTEND;TZID=Europe/Athens:20260808T192500
DTSTAMP:20260424T025741
CREATED:20260213T082946Z
LAST-MODIFIED:20260213T111249Z
UID:10004874-1786179600-1786217100@serrescircuit.gr
SUMMARY:OPEN TRACK DAY/ΕΛΕΥΘΕΡΗ ΠΡΟΠΟΝΗΣΗ
DESCRIPTION:
URL:https://serrescircuit.gr/the-event/open-track-day-eleftheri-proponisi-56/
END:VEVENT
BEGIN:VEVENT
DTSTART;TZID=Europe/Athens:20260809T090000
DTEND;TZID=Europe/Athens:20260809T192500
DTSTAMP:20260424T025741
CREATED:20260213T082950Z
LAST-MODIFIED:20260213T111250Z
UID:10004907-1786266000-1786303500@serrescircuit.gr
SUMMARY:OPEN TRACK DAY/ΕΛΕΥΘΕΡΗ ΠΡΟΠΟΝΗΣΗ
DESCRIPTION:
URL:https://serrescircuit.gr/the-event/open-track-day-eleftheri-proponisi-82/
END:VEVENT
END:VCALENDAR