BEGIN:VCALENDAR
VERSION:2.0
PRODID:-//Serres Circuit Αυτοκινητοδρόμιο - ECPv6.15.18//NONSGML v1.0//EN
CALSCALE:GREGORIAN
METHOD:PUBLISH
X-WR-CALNAME:Serres Circuit Αυτοκινητοδρόμιο
X-ORIGINAL-URL:https://serrescircuit.gr
X-WR-CALDESC:Events for Serres Circuit Αυτοκινητοδρόμιο
REFRESH-INTERVAL;VALUE=DURATION:PT1H
X-Robots-Tag:noindex
X-PUBLISHED-TTL:PT1H
BEGIN:VTIMEZONE
TZID:Europe/Athens
BEGIN:DAYLIGHT
TZOFFSETFROM:+0200
TZOFFSETTO:+0300
TZNAME:EEST
DTSTART:20250330T010000
END:DAYLIGHT
BEGIN:STANDARD
TZOFFSETFROM:+0300
TZOFFSETTO:+0200
TZNAME:EET
DTSTART:20251026T010000
END:STANDARD
BEGIN:DAYLIGHT
TZOFFSETFROM:+0200
TZOFFSETTO:+0300
TZNAME:EEST
DTSTART:20260329T010000
END:DAYLIGHT
BEGIN:STANDARD
TZOFFSETFROM:+0300
TZOFFSETTO:+0200
TZNAME:EET
DTSTART:20261025T010000
END:STANDARD
BEGIN:DAYLIGHT
TZOFFSETFROM:+0200
TZOFFSETTO:+0300
TZNAME:EEST
DTSTART:20270328T010000
END:DAYLIGHT
BEGIN:STANDARD
TZOFFSETFROM:+0300
TZOFFSETTO:+0200
TZNAME:EET
DTSTART:20271031T010000
END:STANDARD
END:VTIMEZONE
BEGIN:VEVENT
DTSTART;TZID=Europe/Athens:20261214T090000
DTEND;TZID=Europe/Athens:20261214T160500
DTSTAMP:20260425T041624
CREATED:20260213T083006Z
LAST-MODIFIED:20260213T111255Z
UID:10005025-1797238800-1797264300@serrescircuit.gr
SUMMARY:OPEN TRACK DAY/ΕΛΕΥΘΕΡΗ ΠΡΟΠΟΝΗΣΗ
DESCRIPTION:
URL:https://serrescircuit.gr/the-event/open-track-day-eleftheri-proponisi-180/
END:VEVENT
BEGIN:VEVENT
DTSTART;TZID=Europe/Athens:20261215T090000
DTEND;TZID=Europe/Athens:20261215T160500
DTSTAMP:20260425T041624
CREATED:20260213T082948Z
LAST-MODIFIED:20260213T111249Z
UID:10004896-1797325200-1797350700@serrescircuit.gr
SUMMARY:OPEN TRACK DAY/ΕΛΕΥΘΕΡΗ ΠΡΟΠΟΝΗΣΗ
DESCRIPTION:
URL:https://serrescircuit.gr/the-event/open-track-day-eleftheri-proponisi-73/
END:VEVENT
BEGIN:VEVENT
DTSTART;TZID=Europe/Athens:20261216T090000
DTEND;TZID=Europe/Athens:20261216T160500
DTSTAMP:20260425T041624
CREATED:20260213T083000Z
LAST-MODIFIED:20260213T111254Z
UID:10004990-1797411600-1797437100@serrescircuit.gr
SUMMARY:OPEN TRACK DAY/ΕΛΕΥΘΕΡΗ ΠΡΟΠΟΝΗΣΗ
DESCRIPTION:
URL:https://serrescircuit.gr/the-event/open-track-day-eleftheri-proponisi-155/
END:VEVENT
BEGIN:VEVENT
DTSTART;TZID=Europe/Athens:20261217T090000
DTEND;TZID=Europe/Athens:20261217T160500
DTSTAMP:20260425T041624
CREATED:20260213T083009Z
LAST-MODIFIED:20260213T111257Z
UID:10005046-1797498000-1797523500@serrescircuit.gr
SUMMARY:OPEN TRACK DAY/ΕΛΕΥΘΕΡΗ ΠΡΟΠΟΝΗΣΗ
DESCRIPTION:
URL:https://serrescircuit.gr/the-event/open-track-day-eleftheri-proponisi-198/
END:VEVENT
BEGIN:VEVENT
DTSTART;TZID=Europe/Athens:20261218T090000
DTEND;TZID=Europe/Athens:20261218T160500
DTSTAMP:20260425T041624
CREATED:20260213T082950Z
LAST-MODIFIED:20260213T111250Z
UID:10004912-1797584400-1797609900@serrescircuit.gr
SUMMARY:OPEN TRACK DAY/ΕΛΕΥΘΕΡΗ ΠΡΟΠΟΝΗΣΗ
DESCRIPTION:
URL:https://serrescircuit.gr/the-event/open-track-day-eleftheri-proponisi-87/
END:VEVENT
BEGIN:VEVENT
DTSTART;TZID=Europe/Athens:20261219T090000
DTEND;TZID=Europe/Athens:20261219T160500
DTSTAMP:20260425T041624
CREATED:20260213T083010Z
LAST-MODIFIED:20260213T111258Z
UID:10005056-1797670800-1797696300@serrescircuit.gr
SUMMARY:OPEN TRACK DAY/ΕΛΕΥΘΕΡΗ ΠΡΟΠΟΝΗΣΗ
DESCRIPTION:
URL:https://serrescircuit.gr/the-event/open-track-day-eleftheri-proponisi-201/
END:VEVENT
BEGIN:VEVENT
DTSTART;TZID=Europe/Athens:20261220T090000
DTEND;TZID=Europe/Athens:20261220T161000
DTSTAMP:20260425T041624
CREATED:20260213T082958Z
LAST-MODIFIED:20260213T111254Z
UID:10004979-1797757200-1797783000@serrescircuit.gr
SUMMARY:OPEN TRACK DAY/ΕΛΕΥΘΕΡΗ ΠΡΟΠΟΝΗΣΗ
DESCRIPTION:
URL:https://serrescircuit.gr/the-event/open-track-day-eleftheri-proponisi-147/
END:VEVENT
END:VCALENDAR