BEGIN:VCALENDAR
VERSION:2.0
PRODID:-//Serres Circuit Αυτοκινητοδρόμιο - ECPv6.15.18//NONSGML v1.0//EN
CALSCALE:GREGORIAN
METHOD:PUBLISH
X-ORIGINAL-URL:https://serrescircuit.gr
X-WR-CALDESC:Events for Serres Circuit Αυτοκινητοδρόμιο
REFRESH-INTERVAL;VALUE=DURATION:PT1H
X-Robots-Tag:noindex
X-PUBLISHED-TTL:PT1H
BEGIN:VTIMEZONE
TZID:Europe/Athens
BEGIN:DAYLIGHT
TZOFFSETFROM:+0200
TZOFFSETTO:+0300
TZNAME:EEST
DTSTART:20250330T010000
END:DAYLIGHT
BEGIN:STANDARD
TZOFFSETFROM:+0300
TZOFFSETTO:+0200
TZNAME:EET
DTSTART:20251026T010000
END:STANDARD
BEGIN:DAYLIGHT
TZOFFSETFROM:+0200
TZOFFSETTO:+0300
TZNAME:EEST
DTSTART:20260329T010000
END:DAYLIGHT
BEGIN:STANDARD
TZOFFSETFROM:+0300
TZOFFSETTO:+0200
TZNAME:EET
DTSTART:20261025T010000
END:STANDARD
BEGIN:DAYLIGHT
TZOFFSETFROM:+0200
TZOFFSETTO:+0300
TZNAME:EEST
DTSTART:20270328T010000
END:DAYLIGHT
BEGIN:STANDARD
TZOFFSETFROM:+0300
TZOFFSETTO:+0200
TZNAME:EET
DTSTART:20271031T010000
END:STANDARD
END:VTIMEZONE
BEGIN:VEVENT
DTSTART;TZID=Europe/Athens:20261221T090000
DTEND;TZID=Europe/Athens:20261221T161000
DTSTAMP:20260425T041827
CREATED:20260213T082946Z
LAST-MODIFIED:20260213T111249Z
UID:10004868-1797843600-1797869400@serrescircuit.gr
SUMMARY:OPEN TRACK DAY/ΕΛΕΥΘΕΡΗ ΠΡΟΠΟΝΗΣΗ
DESCRIPTION:
URL:https://serrescircuit.gr/the-event/open-track-day-eleftheri-proponisi-50/
END:VEVENT
BEGIN:VEVENT
DTSTART;TZID=Europe/Athens:20261222T090000
DTEND;TZID=Europe/Athens:20261222T161000
DTSTAMP:20260425T041827
CREATED:20260213T082949Z
LAST-MODIFIED:20260213T111250Z
UID:10004906-1797930000-1797955800@serrescircuit.gr
SUMMARY:OPEN TRACK DAY/ΕΛΕΥΘΕΡΗ ΠΡΟΠΟΝΗΣΗ
DESCRIPTION:
URL:https://serrescircuit.gr/the-event/open-track-day-eleftheri-proponisi-81/
END:VEVENT
BEGIN:VEVENT
DTSTART;TZID=Europe/Athens:20261223T090000
DTEND;TZID=Europe/Athens:20261223T161000
DTSTAMP:20260425T041827
CREATED:20260213T082949Z
LAST-MODIFIED:20260213T111250Z
UID:10004904-1798016400-1798042200@serrescircuit.gr
SUMMARY:OPEN TRACK DAY/ΕΛΕΥΘΕΡΗ ΠΡΟΠΟΝΗΣΗ
DESCRIPTION:
URL:https://serrescircuit.gr/the-event/open-track-day-eleftheri-proponisi-79/
END:VEVENT
BEGIN:VEVENT
DTSTART;VALUE=DATE:20261224
DTEND;VALUE=DATE:20261226
DTSTAMP:20260425T041827
CREATED:20260213T083012Z
LAST-MODIFIED:20260213T134553Z
UID:10005068-1798070400-1798243199@serrescircuit.gr
SUMMARY:CHRISTMAS HOLIDAY
DESCRIPTION:This is an event reminder
URL:https://serrescircuit.gr/the-event/christmas-holiday/
END:VEVENT
BEGIN:VEVENT
DTSTART;TZID=Europe/Athens:20261226T090000
DTEND;TZID=Europe/Athens:20261226T161000
DTSTAMP:20260425T041827
CREATED:20260213T082959Z
LAST-MODIFIED:20260213T111254Z
UID:10004981-1798275600-1798301400@serrescircuit.gr
SUMMARY:OPEN TRACK DAY/ΕΛΕΥΘΕΡΗ ΠΡΟΠΟΝΗΣΗ
DESCRIPTION:
URL:https://serrescircuit.gr/the-event/open-track-day-eleftheri-proponisi-149/
END:VEVENT
BEGIN:VEVENT
DTSTART;TZID=Europe/Athens:20261227T090000
DTEND;TZID=Europe/Athens:20261227T161000
DTSTAMP:20260425T041827
CREATED:20260213T083008Z
LAST-MODIFIED:20260213T111257Z
UID:10005040-1798362000-1798387800@serrescircuit.gr
SUMMARY:OPEN TRACK DAY/ΕΛΕΥΘΕΡΗ ΠΡΟΠΟΝΗΣΗ
DESCRIPTION:
URL:https://serrescircuit.gr/the-event/open-track-day-eleftheri-proponisi-192/
END:VEVENT
END:VCALENDAR